Workbook

Sheet Statements Input
A1: =C5 -> Macfarlane
B3: Company Ticker | C3: MACF
B4: Index | C4: MACF
B5: Company Name | C5: Macfarlane
B6: Ending Year | C6: 2025
B7: Units | C7: 1000
B8: Marginal Tax Rate | C8: 0.25
B9: Current Stock Price | C9: 0.89
B11: Income Statement | E11: =F11-1 -> 2016 | F11: =G11-1 -> 2017 | G11: =H11-1 -> 2018 | H11: =I11-1 -> 2019 | I11: =J11-1 -> 2020 | J11: =K11-1 -> 2021 | K11: =L11-1 -> 2022 | L11: =M11-1 -> 2023 | M11: =N11-1 -> 2024 | N11: =C6 -> 2025
B12: Revenue | H12: 225246 | I12: 230029 | J12: 264465 | K12: 290431 | L12: 280714 | M12: 270347 | N12: 287430
B13: Cost of Good Solds | H13: -153256 | I13: -153483 | J13: -174998 | K13: -192374 | L13: -175033 | M13: -165065 | N13: -178130
B15: Gross Profit | E15: =E12+E13 -> 0 | F15: =F12+F13 -> 0 | G15: =G12+G13 -> 0 | H15: =H12+H13 -> 71990 | I15: =I12+I13 -> 76546 | J15: =J12+J13 -> 89467 | K15: =K12+K13 -> 98057 | L15: =L12+L13 -> 105681 | ... N15: =N12+N13 -> 109300
B17: Operating Expenses
B18: Research & Development
B19: Selling, General & Administrative | H19: -34937 | I19: =-35027 -> -35027 | J19: =-40201 -> -40201 | K19: -43850 | L19: -48665 | M19: -48614 | N19: =-0.176*N12 -> -50587.68
B20: D&A - Intangibles | H20: 0 | J20: 0 | K20: 0 | L20: 0 | M20: 0 | N20: 0
B21: D&A - Right-of-use Assets | H21: -6223 | I21: =-6740 -> -6740 | J21: -6899 | K21: -7542 | L21: -7854 | M21: -8878 | N21: =-9597 -> -9597
B22: D&A - Assets | H22: -1598 | I22: -1719 | J22: =-(1475) -> -1475 | K22: =-(1498) -> -1498 | L22: =-(1720) -> -1720 | M22: =-(1879) -> -1879 | N22: -2224
B23: Other Operating Expenses | H23: =-8441-3913 -> -12354 | I23: =-8429-7722 -> -16151 | J23: =-8651-217-5347 -> -14215 | K23: =-10736-186-5595-3577 -> -20094 | L23: =-10485-10855 -> -21340 | M23: =-11165-198-6629 -> -17992 | N23: =-0.066*N12-3264 -> -22234.38
B24: Total Operating Expenses | E24: =SUM(E18:E23) -> 0 | F24: =SUM(F18:F23) -> 0 | G24: =SUM(G18:G23) -> 0 | H24: =SUM(H18:H23) -> -55112 | I24: =SUM(I18:I23) -> -59637 | J24: =SUM(J18:J23) -> -62790 | K24: =SUM(K18:K23) -> -72984 | L24: =SUM(L18:L23) -> -79579 | ... N24: =SUM(N18:N23) -> -84643.06
B26: Operating Income | E26: =E15+E24 -> 0 | F26: =F15+F24 -> 0 | G26: =G15+G24 -> 0 | H26: =H15+H24 -> 16878 | I26: =I15+I24 -> 16909 | J26: =J15+J24 -> 26677 | K26: =K15+K24 -> 25073 | L26: =L15+L24 -> 26102 | ... N26: =N15+N24 -> 24656.94
B27: Operating Margin | E27: =IFERROR(E26/E12,"-") -> - | F27: =IFERROR(F26/F12,"-") -> - | G27: =IFERROR(G26/G12,"-") -> - | H27: =IFERROR(H26/H12,"-") -> 0.074931408 | I27: =IFERROR(I26/I12,"-") -> 0.073508123 | J27: =IFERROR(J26/J12,"-") -> 0.10087157 | K27: =IFERROR(K26/K12,"-") -> 0.086330316 | L27: =IFERROR(L26/L12,"-") -> 0.092984319 | ... N27: =IFERROR(N26/N12,"-") -> 0.085784156
B29: Non Operating Income (Expense)
B30: Interest Income | H30: 0 | I30: 0 | J30: 0 | K30: 0 | L30: 0 | M30: 0 | N30: 0
B31: Interest Expense | H31: -1625 | I31: -1367 | J31: -1390 | K31: -1562 | L31: -2298 | M31: -3091 | N31: -3860
B32: Gain (Loss) on Assets/Investment | H32: 0 | I32: 0 | J32: 0 | K32: 0 | L32: 0 | M32: 0 | N32: 0
B33: Other Non-Operating Items | H33: 0 | I33: 0 | J33: 0 | K33: 0 | L33: 0 | M33: 0 | N33: 0
B34: Totaling Non Operating Income | E34: =SUM(E30:E33) -> 0 | F34: =SUM(F30:F33) -> 0 | G34: =SUM(G30:G33) -> 0 | H34: =SUM(H30:H33) -> -1625 | I34: =SUM(I30:I33) -> -1367 | J34: =SUM(J30:J33) -> -1390 | K34: =SUM(K30:K33) -> -1562 | L34: =SUM(L30:L33) -> -2298 | ... N34: =SUM(N30:N33) -> -3860
B36: Earning Before Taxes | E36: =E26+E34 -> 0 | F36: =F26+F34 -> 0 | G36: =G26+G34 -> 0 | H36: =H26+H34 -> 15253 | I36: =I26+I34 -> 15542 | J36: =J26+J34 -> 25287 | K36: =K26+K34 -> 23511 | L36: =L26+L34 -> 23804 | ... N36: =N26+N34 -> 20796.94
B38: Income Tax Expense | H38: -2262 | I38: -2831 | J38: -4917 | K38: -4210 | L38: -5306 | M38: -5366 | N38: -4160
B40: Net Income from continuing operations | E40: =E36+E38 -> 0 | F40: =F36+F38 -> 0 | G40: =G36+G38 -> 0 | H40: =H36+H38 -> 12991 | I40: =I36+I38 -> 12711 | J40: =J36+J38 -> 20370 | K40: =K36+K38 -> 19301 | L40: =L36+L38 -> 18498 | ... N40: =N36+N38 -> 16636.94
B42: Discounted Operations
B43: Income (loss) from Discontinued operations | H43: 0 | I43: 0 | J43: 0 | K43: 0 | L43: 0 | M43: 0 | N43: 0
B44: Income Tax Benefit (Expense) | H44: 0 | I44: 0 | J44: 0 | K44: 0 | L44: 0 | M44: 0 | N44: 0
B46: Net Income | E46: =E40+E43+E44 -> 0 | F46: =F40+F43+F44 -> 0 | G46: =G40+G43+G44 -> 0 | H46: =H40+H43+H44 -> 12991 | I46: =I40+I43+I44 -> 12711 | J46: =J40+J43+J44 -> 20370 | K46: =K40+K43+K44 -> 19301 | L46: =L40+L43+L44 -> 18498 | ... N46: =N40+N43+N44 -> 16636.94
B48: Net Income Attributable to non controlling interest | H48: 0 | I48: 0 | J48: 0 | K48: 0 | L48: 0 | M48: 0 | N48: 0
B50: Net Income Attributable to Shareholders | E50: =E46-E48 -> 0 | F50: =F46-F48 -> 0 | G50: =G46-G48 -> 0 | H50: =H46-H48 -> 12991 | I50: =I46-I48 -> 12711 | J50: =J46-J48 -> 20370 | K50: =K46-K48 -> 19301 | L50: =L46-L48 -> 18498 | ... N50: =N46-N48 -> 16636.94
B52: Shares
B53: Basic Shares Outstanding | K53: =158.16*1000 -> 158160 | L53: =158.54*1000 -> 158540 | M53: =159.18*1000 -> 159180 | N53: =159.27*1000 -> 159270
B54: Diluted Shares Outstanding | K54: =159.82*1000 -> 159820 | L54: =160.33*1000 -> 160330 | M54: =159.52*1000 -> 159520 | N54: =159.27*1000 -> 159270
...

Sheet Scenario Summary
B2: Scenario Summary
D3: Upside | E3: Base | F3: Downside
D4: Created by Franco Gianotti on 9/14/2025 Modified by Franco Gianotti on 9/14/2025 | E4: Created by Franco Gianotti on 9/14/2025 | F4: Created by Franco Gianotti on 9/14/2025
C5: Implicit Price | D5: 1.7261219 | E5: 1.3266675 | F5: 1.1039324
C6: Buy Price (20% Margin of Safety) | D6: 1.3291139 | E6: 1.021534 | F6: 0.85002798

Sheet DFCFF
A1: Free Cash flow To Firm
B4: Years of High growth | D4: 5 | G4: ='Statements Input'!E11 -> 2016 | H4: ='Statements Input'!F11 -> 2017 | I4: ='Statements Input'!G11 -> 2018 | J4: ='Statements Input'!H11 -> 2019 | K4: ='Statements Input'!I11 -> 2020 | L4: ='Statements Input'!J11 -> 2021 | M4: ='Statements Input'!K11 -> 2022 | N4: ='Statements Input'!L11 -> 2023 | ... P4: ='Statements Input'!N11 -> 2025 | Q4: =P4+1 -> 2026 | R4: =Q4+1 -> 2027 | S4: =R4+1 -> 2028 | T4: =S4+1 -> 2029 | U4: =T4+1 -> 2030 | V4: =U4+1 -> 2031 | W4: =V4+1 -> 2032 | X4: =W4+1 -> 2033 | ... Z4: =Y4+1 -> 2035
B5: Terminal Value Method | D5: Exit | F5: Revenue | G5: ='Statements Input'!E12 -> 0 | H5: ='Statements Input'!F12 -> 0 | I5: ='Statements Input'!G12 -> 0 | J5: ='Statements Input'!H12 -> 225246 | K5: ='Statements Input'!I12 -> 230029 | L5: ='Statements Input'!J12 -> 264465 | M5: ='Statements Input'!K12 -> 290431 | N5: ='Statements Input'!L12 -> 280714 | ... P5: ='Statements Input'!N12 -> 287430 | Q5: =P5*(1+Q6) -> 307390.42 | R5: =Q5*(1+R104) -> 328736.97 | S5: =R5*(1+S104) -> 351565.93 | T5: =S5*(1+T104) -> 375980.23 | U5: =T5*(1+U104) -> 402089.97 | V5: =U5*(1+V103) -> 430012.88 | W5: =V5*(1+W103) -> 459874.89 | X5: =W5*(1+X103) -> 491810.65 | Y5: =X5*(1+Y103) -> 525964.16 | Z5: =Y5*(1+Z103) -> 562489.45
B6: Scenario | D6: Base | F6: Revenue % Growth | Q6: {=INDEX($Q$104:$U$106, MATCH($D$6,$F$104:$F$106,0), (COLUMN()-COLUMN($Q$6)+1))} -> 0.069444444 | R6: {=INDEX($Q$104:$U$106, MATCH($D$6,$F$104:$F$106,0), (COLUMN()-COLUMN($Q$6)+1))} -> 0.069444444 | S6: {=INDEX($Q$104:$U$106, MATCH($D$6,$F$104:$F$106,0), (COLUMN()-COLUMN($Q$6)+1))} -> 0.069444444 | T6: {=INDEX($Q$104:$U$106, MATCH($D$6,$F$104:$F$106,0), (COLUMN()-COLUMN($Q$6)+1))} -> 0.069444444 | U6: {=INDEX($Q$104:$U$106, MATCH($D$6,$F$104:$F$106,0), (COLUMN()-COLUMN($Q$6)+1))} -> 0.069444444 | V6: {=INDEX($Q$103:$Z$105, MATCH($D$6,$F$104:$F$106,0), (COLUMN()-COLUMN($Q$6)+1))} -> 0.069444444 | W6: {=INDEX($Q$103:$Z$105, MATCH($D$6,$F$104:$F$106,0), (COLUMN()-COLUMN($Q$6)+1))} -> 0.069444444 | X6: {=INDEX($Q$103:$Z$105, MATCH($D$6,$F$104:$F$106,0), (COLUMN()-COLUMN($Q$6)+1))} -> 0.069444444 | Y6: {=INDEX($Q$103:$Z$105, MATCH($D$6,$F$104:$F$106,0), (COLUMN()-COLUMN($Q$6)+1))} -> 0.069444444 | Z6: {=INDEX($Q$103:$Z$105, MATCH($D$6,$F$104:$F$106,0), (COLUMN()-COLUMN($Q$6)+1))} -> 0.069444444
B8: Discount Rate | F8: Cost of Good Solds | G8: ='Statements Input'!E13 -> 0 | H8: ='Statements Input'!F13 -> 0 | I8: ='Statements Input'!G13 -> 0 | J8: ='Statements Input'!H13 -> -153256 | K8: ='Statements Input'!I13 -> -153483 | L8: ='Statements Input'!J13 -> -174998 | M8: ='Statements Input'!K13 -> -192374 | N8: ='Statements Input'!L13 -> -175033 | ... P8: ='Statements Input'!N13 -> -178130 | Q8: =-Q5*Q9 -> -190582.06 | R8: =-R5*R9 -> -203816.92 | S8: =-S5*S9 -> -217970.88 | T8: =-T5*T9 -> -233107.74 | U8: =-U5*U9 -> -249295.78 | V8: =-V5*V9 -> -266607.99 | W8: =-W5*W9 -> -285122.43 | X8: =-X5*X9 -> -304922.6 | ... Z8: =-Z5*Z9 -> -348743.46
B9: Discount Rate | D9: =Risk!I17 -> 0.071049876 | F9: Cost of Good Solds as % Revenue | Q9: {=INDEX($Q$109:$U$111, MATCH($D$6,$F$109:$F$111,0), (COLUMN()-COLUMN($Q$9)+1))} -> 0.62 | R9: {=INDEX($Q$109:$U$111, MATCH($D$6,$F$109:$F$111,0), (COLUMN()-COLUMN($Q$9)+1))} -> 0.62 | S9: {=INDEX($Q$109:$U$111, MATCH($D$6,$F$109:$F$111,0), (COLUMN()-COLUMN($Q$9)+1))} -> 0.62 | T9: {=INDEX($Q$109:$U$111, MATCH($D$6,$F$109:$F$111,0), (COLUMN()-COLUMN($Q$9)+1))} -> 0.62 | U9: {=INDEX($Q$109:$U$111, MATCH($D$6,$F$109:$F$111,0), (COLUMN()-COLUMN($Q$9)+1))} -> 0.62 | V9: {=INDEX($Q$108:$Z$110, MATCH($D$6,$F$109:$F$111,0), (COLUMN()-COLUMN($Q$9)+1))} -> 0.62 | W9: {=INDEX($Q$108:$Z$110, MATCH($D$6,$F$109:$F$111,0), (COLUMN()-COLUMN($Q$9)+1))} -> 0.62 | X9: {=INDEX($Q$108:$Z$110, MATCH($D$6,$F$109:$F$111,0), (COLUMN()-COLUMN($Q$9)+1))} -> 0.62 | Y9: {=INDEX($Q$108:$Z$110, MATCH($D$6,$F$109:$F$111,0), (COLUMN()-COLUMN($Q$9)+1))} -> 0.62 | Z9: {=INDEX($Q$108:$Z$110, MATCH($D$6,$F$109:$F$111,0), (COLUMN()-COLUMN($Q$9)+1))} -> 0.62
B10: Debt | F10: Gross Profit | G10: =G5+G8 -> 0 | H10: =H5+H8 -> 0 | I10: =I5+I8 -> 0 | J10: =J5+J8 -> 71990 | K10: =K5+K8 -> 76546 | L10: =L5+L8 -> 89467 | M10: =M5+M8 -> 98057 | N10: =N5+N8 -> 105681 | ... Z10: =Z5+Z8 -> 213745.99
B11: Market Value of Debt | D11: ='Statements Input'!N128+'Statements Input'!N120+'Statements Input'!N122 -> 79946
F12: SG&A | G12: ='Statements Input'!E19 -> 0 | H12: ='Statements Input'!F19 -> 0 | I12: ='Statements Input'!G19 -> 0 | J12: ='Statements Input'!H19 -> -34937 | K12: ='Statements Input'!I19 -> -35027 | L12: ='Statements Input'!J19 -> -40201 | M12: ='Statements Input'!K19 -> -43850 | N12: ='Statements Input'!L19 -> -48665 | ... P12: ='Statements Input'!N19 -> -50587.68 | Q12: =-Q5*Q13 -> -54100.713 | R12: =-R5*R13 -> -57857.707 | S12: =-S5*S13 -> -61875.604 | T12: =-T5*T13 -> -66172.521 | U12: =-U5*U13 -> -70767.835 | V12: =-V5*V13 -> -75682.267 | W12: =-W5*W13 -> -80937.98 | X12: =-X5*X13 -> -86558.674 | ... Z12: =-Z5*Z13 -> -98998.143
F13: SG&A as % Revenue | Q13: {=INDEX($Q$114:$U$116, MATCH($D$6,$F$114:$F$116,0), (COLUMN()-COLUMN($Q$12)+1))} -> 0.176 | R13: {=INDEX($Q$114:$U$116, MATCH($D$6,$F$114:$F$116,0), (COLUMN()-COLUMN($Q$12)+1))} -> 0.176 | S13: {=INDEX($Q$114:$U$116, MATCH($D$6,$F$114:$F$116,0), (COLUMN()-COLUMN($Q$12)+1))} -> 0.176 | T13: {=INDEX($Q$114:$U$116, MATCH($D$6,$F$114:$F$116,0), (COLUMN()-COLUMN($Q$12)+1))} -> 0.176 | U13: {=INDEX($Q$114:$U$116, MATCH($D$6,$F$114:$F$116,0), (COLUMN()-COLUMN($Q$12)+1))} -> 0.176 | V13: {=INDEX($Q$113:$Z$115, MATCH($D$6,$F$114:$F$116,0), (COLUMN()-COLUMN($Q$12)+1))} -> 0.176 | W13: {=INDEX($Q$113:$Z$115, MATCH($D$6,$F$114:$F$116,0), (COLUMN()-COLUMN($Q$12)+1))} -> 0.176 | X13: {=INDEX($Q$113:$Z$115, MATCH($D$6,$F$114:$F$116,0), (COLUMN()-COLUMN($Q$12)+1))} -> 0.176 | Y13: {=INDEX($Q$113:$Z$115, MATCH($D$6,$F$114:$F$116,0), (COLUMN()-COLUMN($Q$12)+1))} -> 0.176 | Z13: {=INDEX($Q$113:$Z$115, MATCH($D$6,$F$114:$F$116,0), (COLUMN()-COLUMN($Q$12)+1))} -> 0.176
B14: Perpetual Growth Method
B15: FCFF Last Year | D15: {=INDEX(Q41:Z41, 1, D4)} -> 15946.546 | F15: Other Expenses | G15: ='Statements Input'!E23 -> 0 | H15: ='Statements Input'!F23 -> 0 | I15: ='Statements Input'!G23 -> 0 | J15: ='Statements Input'!H23 -> -12354 | K15: ='Statements Input'!I23 -> -16151 | L15: ='Statements Input'!J23 -> -14215 | M15: ='Statements Input'!K23 -> -20094 | N15: ='Statements Input'!L23 -> -21340 | ... P15: ='Statements Input'!N23 -> -22234.38 | Q15: =-Q5*Q16 -> -21078.659 | R15: =-R5*R16 -> -22542.454 | S15: =-S5*S16 -> -24107.902 | T15: =-T5*T16 -> -25782.062 | U15: =-U5*U16 -> -27572.483 | V15: =-V5*V16 -> -29487.239 | W15: =-W5*W16 -> -31534.964 | X15: =-X5*X16 -> -33724.892 | ... Z15: =-Z5*Z16 -> -38571.544
B16: Perpetual Growth Rate | F16: Other Expenses as % Revenue | Q16: {=INDEX($Q$119:$U$121, MATCH($D$6,$F$119:$F$121,0), (COLUMN()-COLUMN($Q$16)+1))} -> 0.06857292 | R16: {=INDEX($Q$119:$U$121, MATCH($D$6,$F$119:$F$121,0), (COLUMN()-COLUMN($Q$16)+1))} -> 0.06857292 | S16: {=INDEX($Q$119:$U$121, MATCH($D$6,$F$119:$F$121,0), (COLUMN()-COLUMN($Q$16)+1))} -> 0.06857292 | T16: {=INDEX($Q$119:$U$121, MATCH($D$6,$F$119:$F$121,0), (COLUMN()-COLUMN($Q$16)+1))} -> 0.06857292 | U16: {=INDEX($Q$119:$U$121, MATCH($D$6,$F$119:$F$121,0), (COLUMN()-COLUMN($Q$16)+1))} -> 0.06857292 | V16: {=INDEX($Q$118:$Z$120, MATCH($D$6,$F$119:$F$121,0), (COLUMN()-COLUMN($Q$16)+1))} -> 0.06857292 | W16: {=INDEX($Q$118:$Z$120, MATCH($D$6,$F$119:$F$121,0), (COLUMN()-COLUMN($Q$16)+1))} -> 0.06857292 | X16: {=INDEX($Q$118:$Z$120, MATCH($D$6,$F$119:$F$121,0), (COLUMN()-COLUMN($Q$16)+1))} -> 0.06857292 | Y16: {=INDEX($Q$118:$Z$120, MATCH($D$6,$F$119:$F$121,0), (COLUMN()-COLUMN($Q$16)+1))} -> 0.06857292 | Z16: {=INDEX($Q$118:$Z$120, MATCH($D$6,$F$119:$F$121,0), (COLUMN()-COLUMN($Q$16)+1))} -> 0.06857292
B17: Upside | D17: 0.005
B18: Base | D18: 0.005 | F18: EBITDA | G18: =G10+G12+G15 -> 0 | H18: =H10+H12+H15 -> 0 | I18: =I10+I12+I15 -> 0 | J18: =J10+J12+J15 -> 24699 | K18: =K10+K12+K15 -> 25368 | L18: =L10+L12+L15 -> 35051 | M18: =M10+M12+M15 -> 34113 | N18: =N10+N12+N15 -> 35676 | ... Z18: =Z10+Z12+Z15 -> 76176.304
B19: Downside | D19: -0.0025 | F19: EBITDA Margin | G19: =IFERROR(G18/G5,"-") -> - | H19: =IFERROR(H18/H5,"-") -> - | I19: =IFERROR(I18/I5,"-") -> - | J19: =IFERROR(J18/J5,"-") -> 0.10965345 | K19: =IFERROR(K18/K5,"-") -> 0.11028175 | L19: =IFERROR(L18/L5,"-") -> 0.1325355 | M19: =IFERROR(M18/M5,"-") -> 0.11745647 | N19: =IFERROR(N18/N5,"-") -> 0.12709021 | ... Z19: =IFERROR(Z18/Z5,"-") -> 0.13542708
B21: Discount Rate | D21: =D9 -> 0.071049876 | F21: D&A Intangibles | G21: ='Statements Input'!E20 -> 0 | H21: ='Statements Input'!F20 -> 0 | I21: ='Statements Input'!G20 -> 0 | J21: ='Statements Input'!H20 -> 0 | K21: ='Statements Input'!I20 -> 0 | L21: ='Statements Input'!J20 -> 0 | M21: ='Statements Input'!K20 -> 0 | N21: ='Statements Input'!L20 -> 0 | ... Z21: ='Statements Input'!X20 -> 0
F22: D&A Right-of-Use Assets | G22: ='Statements Input'!E21 -> 0 | H22: ='Statements Input'!F21 -> 0 | I22: ='Statements Input'!G21 -> 0 | J22: ='Statements Input'!H21 -> -6223 | K22: ='Statements Input'!I21 -> -6740 | L22: ='Statements Input'!J21 -> -6899 | M22: ='Statements Input'!K21 -> -7542 | N22: ='Statements Input'!L21 -> -7854 | ... P22: ='Statements Input'!N21 -> -9597 | Q22: =Q70 -> -9339.3003 | R22: =R70 -> -9302.0778 | S22: =S70 -> -9265.0037 | T22: =T70 -> -9228.0773 | U22: =U70 -> -9191.2981 | V22: =V69 -> -9155.2297 | W22: =W69 -> -9118.6088 | X22: =X69 -> -9082.1344 | Y22: =Y69 -> -9045.8058 | Z22: =Z69 -> -9009.6226
B23: Terminal Value (PGM) | D23: =(D15*(1+((INDEX($D17:$D19, MATCH($D$6,$B17:$B19,0))))))/(D9-(INDEX($D17:$D19, MATCH($D$6,$B17:$B19,0)))) -> 242639.04 | F23: D&A Fixed Assets | G23: ='Statements Input'!E22 -> 0 | H23: ='Statements Input'!F22 -> 0 | I23: ='Statements Input'!G22 -> 0 | J23: ='Statements Input'!H22 -> -1598 | K23: ='Statements Input'!I22 -> -1719 | L23: ='Statements Input'!J22 -> -1475 | M23: ='Statements Input'!K22 -> -1498 | N23: ='Statements Input'!L22 -> -1720 | ... P23: ='Statements Input'!N22 -> -2224 | Q23: =Q57 -> -2463.1442 | R23: =R57 -> -2630.127 | S23: =S57 -> -2808.4301 | T23: =T57 -> -2998.8207 | U23: =U57 -> -3202.1184 | V23: =V56 -> -3419.3159 | W23: =W56 -> -3651.1455 | X23: =X56 -> -3898.6932 | Y23: =Y56 -> -4163.0246 | Z23: =Z56 -> -4445.2777
B25: EBITDA (Last Year Forecast) | D25: {=INDEX(Q18:Z18, 1, D4)} -> 54453.87 | F25: Total D&A | G25: =SUM(G21:G23) -> 0 | H25: =SUM(H21:H23) -> 0 | I25: =SUM(I21:I23) -> 0 | J25: =SUM(J21:J23) -> -7821 | K25: =SUM(K21:K23) -> -8459 | L25: =SUM(L21:L23) -> -8374 | M25: =SUM(M21:M23) -> -9040 | N25: =SUM(N21:N23) -> -9574 | ... Z25: =SUM(Z21:Z23) -> -13454.9
F26: Operating Profit | G26: =G18+G25 -> 0 | H26: =H18+H25 -> 0 | I26: =I18+I25 -> 0 | J26: =J18+J25 -> 16878 | K26: =K18+K25 -> 16909 | L26: =L18+L25 -> 26677 | M26: =M18+M25 -> 25073 | N26: =N18+N25 -> 26102 | ... Z26: =Z18+Z25 -> 62721.404
B27: Implied Exit Multiple | D27: =D23/D25 -> 4.455864 | F27: Operating Margin | G27: =IFERROR(G26/G5,"-") -> - | H27: =IFERROR(H26/H5,"-") -> - | I27: =IFERROR(I26/I5,"-") -> - | J27: =IFERROR(J26/J5,"-") -> 0.074931408 | K27: =IFERROR(K26/K5,"-") -> 0.073508123 | L27: =IFERROR(L26/L5,"-") -> 0.10087157 | M27: =IFERROR(M26/M5,"-") -> 0.086330316 | N27: =IFERROR(N26/N5,"-") -> 0.092984319 | ... U27: =IFERROR(U26/U5,"-") -> 0.10460458 | V27: =-V26*V125 -> -6849.1265 | W27: =-W26*W125 -> -7426.4638 | X27: =-X26*X125 -> -8043.5478 | Y27: =-Y26*Y125 -> -8703.144 | Z27: =-Z26*Z125 -> -9408.2105 | AU27: Exit
F28: Income Taxes | G28: ='Statements Input'!E38 -> 0 | H28: ='Statements Input'!F38 -> 0 | I28: ='Statements Input'!G38 -> 0 | J28: ='Statements Input'!H38 -> -2262 | K28: ='Statements Input'!I38 -> -2831 | L28: ='Statements Input'!J38 -> -4917 | M28: ='Statements Input'!K38 -> -4210 | N28: ='Statements Input'!L38 -> -5306 | ... P28: ='Statements Input'!N38 -> -4160 | Q28: =-Q26*Q126 -> -4473.9813 | R28: =-R26*R126 -> -4888.1525 | S28: =-S26*S126 -> -5330.717 | T28: =-T26*T126 -> -5803.651 | U28: =-U26*U126 -> -6309.0681 | AU28: Perpetual
B29: Discount Factor | D29: =1/(1+$D$9)^D4 -> 0.70949857 | V29: =V26+V27 -> 38811.717 | W29: =W26+W27 -> 42083.295 | X29: =X26+X27 -> 45580.104 | Y29: =Y26+Y27 -> 49317.816 | Z29: =Z26+Z27 -> 53313.193
B30: Present Value of TM | D30: =D23*D29 -> 172152.05 | F30: NOPAT | G30: =G26+G28 -> 0 | H30: =H26+H28 -> 0 | I30: =I26+I28 -> 0 | J30: =J26+J28 -> 14616 | K30: =K26+K28 -> 14078 | L30: =L26+L28 -> 21760 | M30: =M26+M28 -> 20863 | N30: =N26+N28 -> 20796 | ... U30: =U26+U28 -> 35751.386 | V30: =-V21 -> 0 | W30: =-W21 -> 0 | X30: =-X21 -> 0 | Y30: =-Y21 -> 0 | Z30: =-Z21 -> 0
F31: (+) D&A of Intangibles | G31: =-G21 -> 0 | H31: =-H21 -> 0 | I31: =-I21 -> 0 | J31: =-J21 -> 0 | K31: =-K21 -> 0 | L31: =-L21 -> 0 | M31: =-M21 -> 0 | N31: =-N21 -> 0 | ... U31: =-U21 -> 0 | V31: =-V22 -> 9155.2297 | W31: =-W22 -> 9118.6088 | X31: =-X22 -> 9082.1344 | Y31: =-Y22 -> 9045.8058 | Z31: =-Z22 -> 9009.6226
B32: Exit Multiple Method | F32: (+) D&A of Right-of-use Assets | G32: =-G22 -> 0 | H32: =-H22 -> 0 | I32: =-I22 -> 0 | J32: =-J22 -> 6223 | K32: =-K22 -> 6740 | L32: =-L22 -> 6899 | M32: =-M22 -> 7542 | N32: =-N22 -> 7854 | ... U32: =-U22 -> 9191.2981 | V32: =-V23 -> 3419.3159 | W32: =-W23 -> 3651.1455 | X32: =-X23 -> 3898.6932 | Y32: =-Y23 -> 4163.0246 | Z32: =-Z23 -> 4445.2777
B33: Terminal Metric | D33: EBITDA | F33: (+) D&A Fixed Assets | G33: =-G23 -> 0 | H33: =-H23 -> 0 | I33: =-I23 -> 0 | J33: =-J23 -> 1598 | K33: =-K23 -> 1719 | L33: =-L23 -> 1475 | M33: =-M23 -> 1498 | N33: =-N23 -> 1720 | ... U33: =-U23 -> 3202.1184
B34: Terminal EBITDA | D34: {=INDEX(Q18:Z18, 1, D4)} -> 54453.87 | V34: =V56 -> -3419.3159 | W34: =W56 -> -3651.1455 | X34: =X56 -> -3898.6932 | Y34: =Y56 -> -4163.0246 | Z34: =Z56 -> -4445.2777
F35: (-) Purchase of PP&E | G35: ='Statements Input'!E79 -> 0 | H35: ='Statements Input'!F79 -> 0 | I35: ='Statements Input'!G79 -> 0 | J35: ='Statements Input'!H79 -> -2648 | K35: ='Statements Input'!I79 -> -804 | L35: ='Statements Input'!J79 -> -2132 | M35: ='Statements Input'!K79 -> -3285 | N35: ='Statements Input'!L79 -> -2175 | ... P35: ='Statements Input'!N79 -> -2839 | Q35: =Q57 -> -2463.1442 | R35: =R57 -> -2630.127 | S35: =S57 -> -2808.4301 | T35: =T57 -> -2998.8207 | U35: =U57 -> -3202.1184 | V35: =-V142*U5 -> -20104.498 | W35: =-W142*V5 -> -21500.644 | X35: =-X142*W5 -> -22993.744 | Y35: =-Y142*X5 -> -24590.532 | Z35: =-Z142*Y5 -> -26298.208
B36: EV/EBITDA Multiple | F36: (-) Acquisition | G36: ='Statements Input'!E82 -> 0 | H36: ='Statements Input'!F82 -> 0 | I36: ='Statements Input'!G82 -> 0 | J36: ='Statements Input'!H82 -> -6162 | K36: ='Statements Input'!I82 -> -2661 | L36: ='Statements Input'!J82 -> -12238 | M36: ='Statements Input'!K82 -> -8655 | N36: ='Statements Input'!L82 -> -14466 | ... P36: ='Statements Input'!N82 -> -17670 | Q36: =-Q160 -> -14371.5 | R36: =-R160 -> -15369.521 | S36: =-S160 -> -16436.849 | T36: =-T160 -> -17578.296 | U36: =-U160 -> -18799.012 | V36: =V69 -> -9155.2297 | W36: =W69 -> -9118.6088 | X36: =X69 -> -9082.1344 | Y36: =Y69 -> -9045.8058 | Z36: =Z69 -> -9009.6226
B37: Upside | D37: 6.5 | F37: (-) Additions Right-of-use Assets | G37: =G70 -> 0 | H37: =H70 -> 0 | I37: =I70 -> 0 | J37: =J70 -> -6223 | K37: =K70 -> -6740 | L37: =L70 -> -6899 | M37: =M70 -> -7542 | N37: =N70 -> -7854 | ... U37: =U70 -> -9191.2981
B38: Base | D38: 6 | V38: =-V98 -> 25090.685 | W38: =-W98 -> 4032.2655 | X38: =-X98 -> 4301.4346 | Y38: =-Y98 -> 4588.5425 | Z38: =-Z98 -> 4894.7826
B39: Downside | D39: 6 | F39: (-) Net Change in Non-Cash Working Capital | G39: =-G99 -> 0 | H39: =-H99 -> 0 | I39: =-I99 -> 0 | J39: =-J99 -> 24444 | K39: =-K99 -> -1648 | L39: =-L99 -> 1434 | M39: =-M99 -> 10174 | N39: =-N99 -> -4989 | ... U39: =-U99 -> 1005.8284
V40: =IF(V42<=$D$4,V29+V32+V31+V30+V34+V35+V36-V38,0) -> 0 | W40: =IF(W42<=$D$4,W29+W32+W31+W30+W34+W35+W36-W38,0) -> 0 | X40: =IF(X42<=$D$4,X29+X32+X31+X30+X34+X35+X36-X38,0) -> 0 | Y40: =IF(Y42<=$D$4,Y29+Y32+Y31+Y30+Y34+Y35+Y36-Y38,0) -> 0 | Z40: =IF(Z42<=$D$4,Z29+Z32+Z31+Z30+Z34+Z35+Z36-Z38,0) -> 0
B41: Terminal Value | D41: =D34*(INDEX($D37:$D39, MATCH($D$6,$B37:$B39,0))) -> 326723.22 | F41: Free Cash Flow To Firm | G41: =G30+G33+G32+G31+G35+G36+G37-G39 -> 0 | H41: =H30+H33+H32+H31+H35+H36+H37-H39 -> 0 | I41: =I30+I33+I32+I31+I35+I36+I37-I39 -> 0 | J41: =J30+J33+J32+J31+J35+J36+J37-J39 -> -17040 | K41: =K30+K33+K32+K31+K35+K36+K37-K39 -> 13980 | L41: =L30+L33+L32+L31+L35+L36+L37-L39 -> 7431 | M41: =M30+M33+M32+M31+M35+M36+M37-M39 -> 247 | N41: =N30+N33+N32+N31+N35+N36+N37-N39 -> 10864 | ... P41: =P30+P33+P32+P31+P35+P36+P37-P39 -> 1009.94 | Q41: =IF(Q43<=$D$4,Q30+Q33+Q32+Q31+Q35+Q36+Q37-Q39,0) -> 12137.564 | R41: =IF(R43<=$D$4,R30+R33+R32+R31+R35+R36+R37-R39,0) -> 11296.441 | S41: =IF(S43<=$D$4,S30+S33+S32+S31+S35+S36+S37-S39,0) -> 12735.493 | T41: =IF(T43<=$D$4,T30+T33+T32+T31+T35+T36+T37-T39,0) -> 14285.335 | U41: =IF(U43<=$D$4,U30+U33+U32+U31+U35+U36+U37-U39,0) -> 15946.546
V42: 6 | W42: 7 | X42: 8 | Y42: 9 | Z42: 10
B43: Implied Growth Rate | D43: {=((D41*D9)-INDEX(Q40:Z40,1,D4))/(D41+D15)} -> 0.067743486 | F43: Period | Q43: 1 | R43: 2 | S43: 3 | T43: 4 | U43: 5
V44: =1/(1+$D$9)^V42 -> 0.6624328 | W44: =1/(1+$D$9)^W42 -> 0.61848922 | X44: =1/(1+$D$9)^X42 -> 0.57746071 | Y44: =1/(1+$D$9)^Y42 -> 0.53915389 | Z44: =1/(1+$D$9)^Z42 -> 0.50338822
B45: Discount Factor | D45: =1/(1+$D$9)^D4 -> 0.70949857 | F45: Discount Factor | Q45: =1/(1+$D$9)^Q43 -> 0.93366334 | R45: =1/(1+$D$9)^R43 -> 0.87172722 | S45: =1/(1+$D$9)^S43 -> 0.81389975 | T45: =1/(1+$D$9)^T43 -> 0.75990835 | U45: =1/(1+$D$9)^U43 -> 0.70949857
...

Sheet Risk
A1: Risk, Cost of Debt and Cost of Equity Calculator
BJ2: Nominal
B3: Risk Free Rate Calculator | G3: Equity Risk Premium | K3: Country Risk Premium | BJ3: Risk Free
B4: Bond Type | E4: Nominal | G4: Mature ERP | I4: 0.0448 | K4: Country | M4: Weight | N4: CRP | O4: Total | BJ4: Inflation
B5: Goverment Bond (10yr) yield | E5: 0.0462 | G5: CRP | I5: =O10 -> 0.0089 | K5: United Kingdom | M5: 1 | N5: 0.0089 | O5: =M5*N5 -> 0.0089
B6: Country Spread | E6: 0.0059 | G6: Equity Risk Premium | I6: =SUM(I4:I5) -> 0.0537
B7: Risk Free Rate | E7: =IF(E4="Risk Free",E5,IF(E4="Nominal",E5-E6,E5)) -> 0.0403
B10: Cost of Equtiy | G10: Cost of Capital | K10: Total | O10: =SUM(O5:O9) -> 0.0089
B11: Risk Free Rate | E11: =E7 -> 0.0403 | G11: Market Value of Equity | I11: ='Statements Input'!C9*'Statements Input'!N54 -> 141750.3
B12: Levered Beta | E12: ='Beta Calculation'!H5 -> 0.89016227 | G12: Market Value of Debt | I12: =E21 -> 80503.35
B13: Equity Risk Premium | E13: =I6 -> 0.0537 | G13: Debt to Equity Ratio | I13: =I12/(I11+I12) -> 0.36221385
B14: Total | E14: =E11+(E12*E13) -> 0.088101714 | G14: Equity Ratio | I14: =1-I13 -> 0.63778615
G15: Cost of Debt | I15: =E18 -> 0.041025
G16: Cost of Equity | I16: =E14 -> 0.088101714
B17: Cost of Debt | G17: Cost of Capital | I17: =I15*I13+I16*I14 -> 0.071049876
B18: After Tax Cost of Debt | E18: =H28 -> 0.041025
B19: Average Maturity | E19: 1
B20: Book Value of Debt | E20: ='Statements Input'!N122+'Statements Input'!N120+'Statements Input'!N121+'Statements Input'!N127+'Statements Input'!N128 -> 79946
B21: Market Value of Debt | E21: =(D25*((1-(1/((1+E18)^E19)))/E18))+(E20/((1+E18)^E19)) -> 80503.35
B23: Synthetic Ratio
B24: Operating Income | D24: ='Statements Input'!N26 -> 24656.94 | F24: Interest Coverage Ratio | H24: =IF(D25>0,D24/D25,100000) -> 6.3878083
B25: Interest Expense | D25: =-'Statements Input'!N31 -> 3860 | F25: Estimated Bond Rating | H25: =IF(C27="Large firm (> 5bn)",VLOOKUP(H24,$B32:$E46,3),(IF(C27="Financial service firm",VLOOKUP(H24,$G32:$J46,3),VLOOKUP(H24,$B51:$E65,3)))) -> A2/A
B26: Government Bond | D26: =E5 -> 0.0462 | F26: Estimated Default Spread | H26: =IF(C27="Large firm (> 5bn)",VLOOKUP(H24,$B32:$E46,4),(IF(C27="Financial service firm",VLOOKUP(H24,$G32:$J46,4),VLOOKUP(H24,$B51:$E65,4)))) -> 0.0085
B27: Firm Type | C27: Smaller or rieskier firm (<5bn) | F27: Estimated Cost of Debt | H27: =H26+D26 -> 0.0547
F28: Estimated Cost of Debt after Tax | H28: =H27*(1-'Statements Input'!C8) -> 0.041025
B30: For large non-financial services | G30: For financial services
B31: > | C31: ≤ to | D31: Rating is | E31: Spread is | G31: > | H31: ≤ to | I31: Rating is | J31: Spread is
B32: -100000 | C32: 0.199999 | D32: D2/D | E32: 0.19 | G32: -100000 | H32: 0.049999 | I32: D2/D | J32: 0.19
B33: 0.2 | C33: 0.649999 | D33: C2/C | E33: 0.155 | G33: 0.05 | H33: 0.099999 | I33: C2/C | J33: 0.155
B34: 0.65 | C34: 0.799999 | D34: Ca2/CC | E34: 0.101 | G34: 0.1 | H34: 0.199999 | I34: Ca2/CC | J34: 0.101
B35: 0.8 | C35: 1.249999 | D35: Caa/CCC | E35: 0.0728 | G35: 0.2 | H35: 0.299999 | I35: Caa/CCC | J35: 0.0728
B36: 1.25 | C36: 1.499999 | D36: B3/B- | E36: 0.0442 | G36: 0.3 | H36: 0.399999 | I36: B3/B- | J36: 0.0442
B37: 1.5 | C37: 1.749999 | D37: B2/B | E37: 0.03 | G37: 0.4 | H37: 0.499999 | I37: B2/B | J37: 0.03
B38: 1.75 | C38: 1.999999 | D38: B1/B+ | E38: 0.0261 | G38: 0.5 | H38: 0.599999 | I38: B1/B+ | J38: 0.0261
B39: 2 | C39: 2.2499999 | D39: Ba2/BB | E39: 0.0183 | G39: 0.6 | H39: 0.749999 | I39: Ba2/BB | J39: 0.0183
B40: 2.25 | C40: 2.49999 | D40: Ba1/BB+ | E40: 0.0155 | G40: 0.75 | H40: 0.899999 | I40: Ba1/BB+ | J40: 0.0155
B41: 2.5 | C41: 2.999999 | D41: Baa2/BBB | E41: 0.012 | G41: 0.9 | H41: 1.199999 | I41: Baa2/BBB | J41: 0.012
B42: 3 | C42: 4.249999 | D42: A3/A- | E42: 0.0095 | G42: 1.2 | H42: 1.49999 | I42: A3/A- | J42: 0.0095
B43: 4.25 | C43: 5.499999 | D43: A2/A | E43: 0.0085 | G43: 1.5 | H43: 1.99999 | I43: A2/A | J43: 0.0085
... B46: 8.5 | C46: 100000 | D46: Aaa/AAA | E46: 0.0045 | G46: 3 | H46: 100000 | I46: Aaa/AAA | J46: 0.0045
...

Sheet Beta Calculation
A1: Beta calculation
B3: Input | F3: Sector
B4: Number of Period Data | D4: 60 | F4: Average unlevered beta | H4: 0.7
B5: Marginal Tax Rate | D5: ='Statements Input'!C8 -> 0.25 | F5: Relevered beta | H5: =IFERROR(H4*(1+(1-D5)*D6), "-") -> 0.89016227
B6: Debt to Equity Ratio | D6: =Risk!I13 -> 0.36221385
B7: Levered Beta | D7: =D8*(1+(1-D5)*D6) -> -0.074051011
B8: Unlevered Beta | D8: =SUM(M14:M72)/SUM(L14:L72) -> -0.058231751
B9: Std Stock | D9: =STDEV(I61:I72)*SQRT(12) -> 0.23714367
B10: Adjusted Beta (Beta Drifting) | D10: =0.66*D7+1*0.33 -> 0.28112633
B12: Month | C12: Time period | D12: Index | E12: Price(Stock) | F12: DPS(Stock) | G12: Split Factor | H12: Index Level | I12: Return(Stock) | J12: Return(Mkt) | K12: (R(jt)-Rj)^2 | L12: (R(mt)-R(m))^2 | M12: (R(jt)-R(j))
B13: =DATE(YEAR(TODAY())-5,MONTH(TODAY()),1) -> 44105 | C13: 1 | D13: =IF(C13>$D4,0,1) -> 1 | E13: {=INDEX(_xlfn.STOCKHISTORY('Statements Input'!$C$3,'Beta Calculation'!B13,,2,,1),2)} -> 81.9 | G13: 1 | H13: 6956.9 | M13: (R(mt)-R(m))
B14: =EDATE(B13,1) -> 44136 | C14: 2 | D14: =IF(C14>$D4,0,1) -> 1 | E14: {=INDEX(_xlfn.STOCKHISTORY('Statements Input'!$C$3,'Beta Calculation'!B14,,2,,1),2)} -> 84.6 | G14: 1 | H14: 6730.7 | I14: =((E14*G14-E13+F14*G14)/E13)*D14 -> 0.032967033 | J14: =((H14-H13)/H13)*D14 -> -0.032514482 | K14: =(I14-AVERAGE(I14:I72))^2*D14 -> 0.00081856498 | L14: =(J14-AVERAGE(J14:J72))^2*D14 -> 0.0020950535 | M14: =(I14-AVERAGE(I14:I72))*(J14-AVERAGE(J14:J72))*D14 -> -0.0013095562
B15: =EDATE(B14,1) -> 44166 | C15: =C14+1 -> 3 | D15: =IF(C15>$D4,0,1) -> 1 | E15: {=INDEX(_xlfn.STOCKHISTORY('Statements Input'!$C$3,'Beta Calculation'!B15,,2,,1),2)} -> 87.5 | G15: 1 | H15: 6585.6 | I15: =((E15*G15-E14+F15*G15)/E14)*D15 -> 0.03427896 | J15: =((H15-H14)/H14)*D15 -> -0.021557936 | K15: =(I15-AVERAGE(I14:I72))^2*D15 -> 0.00089535609 | L15: =(J15-AVERAGE(J14:J72))^2*D15 -> 0.0012120987 | M15: =(I15-AVERAGE(I14:I72))*(J15-AVERAGE(J14:J72))*D15 -> -0.0010417581
B16: =EDATE(B15,1) -> 44197 | C16: =C15+1 -> 4 | D16: =IF(C16>$D4,0,1) -> 1 | E16: {=INDEX(_xlfn.STOCKHISTORY('Statements Input'!$C$3,'Beta Calculation'!B16,,2,,1),2)} -> 90.4 | G16: 1 | H16: 8140.8 | I16: =((E16*G16-E15+F16*G16)/E15)*D16 -> 0.033142857 | J16: =((H16-H15)/H15)*D16 -> 0.2361516 | K16: =(I16-AVERAGE(I14:I72))^2*D16 -> 0.00082865675 | L16: =(J16-AVERAGE(J14:J72))^2*D16 -> 0.049681883 | M16: =(I16-AVERAGE(I14:I72))*(J16-AVERAGE(J14:J72))*D16 -> 0.0064163251
B17: =EDATE(B16,1) -> 44228 | C17: =C16+1 -> 5 | D17: =IF(C17>$D4,0,1) -> 1 | E17: {=INDEX(_xlfn.STOCKHISTORY('Statements Input'!$C$3,'Beta Calculation'!B17,,2,,1),2)} -> 91.8 | G17: 1 | H17: 8099.2 | I17: =((E17*G17-E16+F17*G17)/E16)*D17 -> 0.015486726 | J17: =((H17-H16)/H16)*D17 -> -0.0051100629 | K17: =(I17-AVERAGE(I14:I72))^2*D17 -> 0.00012388285 | L17: =(J17-AVERAGE(J14:J72))^2*D17 -> 0.00033735899 | M17: =(I17-AVERAGE(I14:I72))*(J17-AVERAGE(J14:J72))*D17 -> -0.00020443335
B18: =EDATE(B17,1) -> 44256 | C18: =C17+1 -> 6 | D18: =IF(C18>$D4,0,1) -> 1 | E18: {=INDEX(_xlfn.STOCKHISTORY('Statements Input'!$C$3,'Beta Calculation'!B18,,2,,1),2)} -> 102.5 | G18: 1 | H18: 7798.2 | I18: =((E18*G18-E17+F18*G18)/E17)*D18 -> 0.11655773 | J18: =((H18-H17)/H17)*D18 -> -0.037164164 | K18: =(I18-AVERAGE(I14:I72))^2*D18 -> 0.012589126 | L18: =(J18-AVERAGE(J14:J72))^2*D18 -> 0.0025423212 | M18: =(I18-AVERAGE(I14:I72))*(J18-AVERAGE(J14:J72))*D18 -> -0.0056573495
B19: =EDATE(B18,1) -> 44287 | C19: =C18+1 -> 7 | D19: =IF(C19>$D4,0,1) -> 1 | E19: {=INDEX(_xlfn.STOCKHISTORY('Statements Input'!$C$3,'Beta Calculation'!B19,,2,,1),2)} -> 116 | G19: 1 | H19: 8378.1 | I19: =((E19*G19-E18+F19*G19)/E18)*D19 -> 0.13170732 | J19: =((H19-H18)/H18)*D19 -> 0.074363315 | K19: =(I19-AVERAGE(I14:I72))^2*D19 -> 0.016218241 | L19: =(J19-AVERAGE(J14:J72))^2*D19 -> 0.0037339485 | M19: =(I19-AVERAGE(I14:I72))*(J19-AVERAGE(J14:J72))*D19 -> 0.007781907
B20: =EDATE(B19,1) -> 44317 | C20: =C19+1 -> 8 | D20: =IF(C20>$D4,0,1) -> 1 | E20: {=INDEX(_xlfn.STOCKHISTORY('Statements Input'!$C$3,'Beta Calculation'!B20,,2,,1),2)} -> 117.5 | G20: 1 | H20: 8577.6 | I20: =((E20*G20-E19+F20*G20)/E19)*D20 -> 0.012931034 | J20: =((H20-H19)/H19)*D20 -> 0.023812081 | K20: =(I20-AVERAGE(I14:I72))^2*D20 -> 7.3523355e-05 | L20: =(J20-AVERAGE(J14:J72))^2*D20 -> 0.00011140401 | M20: =(I20-AVERAGE(I14:I72))*(J20-AVERAGE(J14:J72))*D20 -> 9.0503018e-05
B21: =EDATE(B20,1) -> 44348 | C21: =C20+1 -> 9 | D21: =IF(C21>$D4,0,1) -> 1 | E21: {=INDEX(_xlfn.STOCKHISTORY('Statements Input'!$C$3,'Beta Calculation'!B21,,2,,1),2)} -> 116 | G21: 1 | H21: 8893.7 | I21: =((E21*G21-E20+F21*G21)/E20)*D21 -> -0.012765957 | J21: =((H21-H20)/H20)*D21 -> 0.0368518 | K21: =(I21-AVERAGE(I14:I72))^2*D21 -> 0.00029317712 | L21: =(J21-AVERAGE(J14:J72))^2*D21 -> 0.00055670176 | M21: =(I21-AVERAGE(I14:I72))*(J21-AVERAGE(J14:J72))*D21 -> -0.00040399532
B22: =EDATE(B21,1) -> 44378 | C22: =C21+1 -> 10 | D22: =IF(C22>$D4,0,1) -> 1 | E22: {=INDEX(_xlfn.STOCKHISTORY('Statements Input'!$C$3,'Beta Calculation'!B22,,2,,1),2)} -> 112 | G22: 1 | H22: 9189.7 | I22: =((E22*G22-E21+F22*G22)/E21)*D22 -> -0.034482759 | J22: =((H22-H21)/H21)*D22 -> 0.033281986 | K22: =(I22-AVERAGE(I14:I72))^2*D22 -> 0.0015084848 | L22: =(J22-AVERAGE(J14:J72))^2*D22 -> 0.00040098918 | M22: =(I22-AVERAGE(I14:I72))*(J22-AVERAGE(J14:J72))*D22 -> -0.00077774422
B23: =EDATE(B22,1) -> 44409 | C23: =C22+1 -> 11 | D23: =IF(C23>$D4,0,1) -> 1 | E23: {=INDEX(_xlfn.STOCKHISTORY('Statements Input'!$C$3,'Beta Calculation'!B23,,2,,1),2)} -> 139.5 | G23: 1 | H23: 8932.3 | I23: =((E23*G23-E22+F23*G23)/E22)*D23 -> 0.24553571 | J23: =((H23-H22)/H22)*D23 -> -0.028009619 | K23: =(I23-AVERAGE(I14:I72))^2*D23 -> 0.058167433 | L23: =(J23-AVERAGE(J14:J72))^2*D23 -> 0.0017029563 | M23: =(I23-AVERAGE(I14:I72))*(J23-AVERAGE(J14:J72))*D23 -> -0.0099527182
B24: =EDATE(B23,1) -> 44440 | C24: =C23+1 -> 12 | D24: =IF(C24>$D4,0,1) -> 1 | E24: {=INDEX(_xlfn.STOCKHISTORY('Statements Input'!$C$3,'Beta Calculation'!B24,,2,,1),2)} -> 137.5 | G24: 1 | H24: 8758.7 | I24: =((E24*G24-E23+F24*G24)/E23)*D24 -> -0.014336918 | J24: =((H24-H23)/H23)*D24 -> -0.019435084 | K24: =(I24-AVERAGE(I14:I72))^2*D24 -> 0.0003494423 | L24: =(J24-AVERAGE(J14:J72))^2*D24 -> 0.0010687901 | M24: =(I24-AVERAGE(I14:I72))*(J24-AVERAGE(J14:J72))*D24 -> 0.0006111305
B25: =EDATE(B24,1) -> 44470 | C25: =C24+1 -> 13 | D25: =IF(C25>$D4,0,1) -> 1 | E25: {=INDEX(_xlfn.STOCKHISTORY('Statements Input'!$C$3,'Beta Calculation'!B25,,2,,1),2)} -> 131.25 | G25: 1 | H25: 8991.5 | I25: =((E25*G25-E24+F25*G25)/E24)*D25 -> -0.045454545 | J25: =((H25-H24)/H24)*D25 -> 0.026579287 | K25: =(I25-AVERAGE(I14:I72))^2*D25 -> 0.0024811361 | L25: =(J25-AVERAGE(J14:J72))^2*D25 -> 0.00017747608 | M25: =(I25-AVERAGE(I14:I72))*(J25-AVERAGE(J14:J72))*D25 -> -0.00066358294
B26: =EDATE(B25,1) -> 44501 | C26: =C25+1 -> 14 | D26: =IF(C26>$D4,0,1) -> 1 | E26: {=INDEX(_xlfn.STOCKHISTORY('Statements Input'!$C$3,'Beta Calculation'!B26,,2,,1),2)} -> 133 | G26: 1 | H26: 8799.5 | I26: =((E26*G26-E25+F26*G26)/E25)*D26 -> 0.013333333 | J26: =((H26-H25)/H25)*D26 -> -0.021353501 | K26: =(I26-AVERAGE(I14:I72))^2*D26 -> 8.0584284e-05 | L26: =(J26-AVERAGE(J14:J72))^2*D26 -> 0.0011979056 | M26: =(I26-AVERAGE(I14:I72))*(J26-AVERAGE(J14:J72))*D26 -> -0.00031069658
B27: =EDATE(B26,1) -> 44531 | C27: =C26+1 -> 15 | D27: =IF(C27>$D4,0,1) -> 1 | E27: {=INDEX(_xlfn.STOCKHISTORY('Statements Input'!$C$3,'Beta Calculation'!B27,,2,,1),2)} -> 130 | G27: 1 | H27: 9182.6 | I27: =((E27*G27-E26+F27*G27)/E26)*D27 -> -0.022556391 | J27: =((H27-H26)/H26)*D27 -> 0.043536565 | K27: =(I27-AVERAGE(I14:I72))^2*D27 -> 0.00072430146 | L27: =(J27-AVERAGE(J14:J72))^2*D27 -> 0.00091683556 | M27: =(I27-AVERAGE(I14:I72))*(J27-AVERAGE(J14:J72))*D27 -> -0.00081490204
B28: =EDATE(B27,1) -> 44562 | C28: =C27+1 -> 16 | D28: =IF(C28>$D4,0,1) -> 1 | E28: {=INDEX(_xlfn.STOCKHISTORY('Statements Input'!$C$3,'Beta Calculation'!B28,,2,,1),2)} -> 126 | G28: 1 | H28: 8452.6 | I28: =((E28*G28-E27+F28*G28)/E27)*D28 -> -0.030769231 | J28: =((H28-H27)/H27)*D28 -> -0.079498181 | K28: =(I28-AVERAGE(I14:I72))^2*D28 -> 0.001233814 | L28: =(J28-AVERAGE(J14:J72))^2*D28 -> 0.0086035741 | M28: =(I28-AVERAGE(I14:I72))*(J28-AVERAGE(J14:J72))*D28 -> 0.0032580992
B29: =EDATE(B28,1) -> 44593 | C29: =C28+1 -> 17 | D29: =IF(C29>$D4,0,1) -> 1 | E29: {=INDEX(_xlfn.STOCKHISTORY('Statements Input'!$C$3,'Beta Calculation'!B29,,2,,1),2)} -> 130 | G29: 1 | H29: 8761.2 | I29: =((E29*G29-E28+F29*G29)/E28)*D29 -> 0.031746032 | J29: =((H29-H28)/H28)*D29 -> 0.036509476 | K29: =(I29-AVERAGE(I14:I72))^2*D29 -> 0.00075018873 | L29: =(J29-AVERAGE(J14:J72))^2*D29 -> 0.00054066501 | M29: =(I29-AVERAGE(I14:I72))*(J29-AVERAGE(J14:J72))*D29 -> 0.00063686796
B30: =EDATE(B29,1) -> 44621 | C30: =C29+1 -> 18 | D30: =IF(C30>$D4,0,1) -> 1 | E30: {=INDEX(_xlfn.STOCKHISTORY('Statements Input'!$C$3,'Beta Calculation'!B30,,2,,1),2)} -> 128.5 | G30: 1 | H30: 8726.7 | I30: =((E30*G30-E29+F30*G30)/E29)*D30 -> -0.011538462 | J30: =((H30-H29)/H29)*D30 -> -0.0039378167 | K30: =(I30-AVERAGE(I14:I72))^2*D30 -> 0.00025264848 | L30: =(J30-AVERAGE(J14:J72))^2*D30 -> 0.00029567107 | M30: =(I30-AVERAGE(I14:I72))*(J30-AVERAGE(J14:J72))*D30 -> 0.00027331456
B31: =EDATE(B30,1) -> 44652 | C31: =C30+1 -> 19 | D31: =IF(C31>$D4,0,1) -> 1 | E31: {=INDEX(_xlfn.STOCKHISTORY('Statements Input'!$C$3,'Beta Calculation'!B31,,2,,1),2)} -> 120 | G31: 1 | H31: 8188.2 | I31: =((E31*G31-E30+F31*G31)/E30)*D31 -> -0.06614786 | J31: =((H31-H30)/H30)*D31 -> -0.061707175 | K31: =(I31-AVERAGE(I14:I72))^2*D31 -> 0.0049708589 | L31: =(J31-AVERAGE(J14:J72))^2*D31 -> 0.0056196682 | M31: =(I31-AVERAGE(I14:I72))*(J31-AVERAGE(J14:J72))*D31 -> 0.0052853172
B32: =EDATE(B31,1) -> 44682 | C32: =C31+1 -> 20 | D32: =IF(C32>$D4,0,1) -> 1 | E32: {=INDEX(_xlfn.STOCKHISTORY('Statements Input'!$C$3,'Beta Calculation'!B32,,2,,1),2)} -> 122.5 | G32: 1 | H32: 8503.7 | I32: =((E32*G32-E31+F32*G32)/E31)*D32 -> 0.020833333 | J32: =((H32-H31)/H31)*D32 -> 0.038531057 | K32: =(I32-AVERAGE(I14:I72))^2*D32 -> 0.00027148741 | L32: =(J32-AVERAGE(J14:J72))^2*D32 -> 0.00063876421 | M32: =(I32-AVERAGE(I14:I72))*(J32-AVERAGE(J14:J72))*D32 -> 0.00041643299
B33: =EDATE(B32,1) -> 44713 | C33: =C32+1 -> 21 | D33: =IF(C33>$D4,0,1) -> 1 | E33: {=INDEX(_xlfn.STOCKHISTORY('Statements Input'!$C$3,'Beta Calculation'!B33,,2,,1),2)} -> 114.5 | G33: 1 | H33: 8436 | I33: =((E33*G33-E32+F33*G33)/E32)*D33 -> -0.065306122 | J33: =((H33-H32)/H32)*D33 -> -0.0079612404 | K33: =(I33-AVERAGE(I14:I72))^2*D33 -> 0.0048528752 | L33: =(J33-AVERAGE(J14:J72))^2*D33 -> 0.00045022527 | M33: =(I33-AVERAGE(I14:I72))*(J33-AVERAGE(J14:J72))*D33 -> 0.0014781363
B34: =EDATE(B33,1) -> 44743 | C34: =C33+1 -> 22 | D34: =IF(C34>$D4,0,1) -> 1 | E34: {=INDEX(_xlfn.STOCKHISTORY('Statements Input'!$C$3,'Beta Calculation'!B34,,2,,1),2)} -> 116 | G34: 1 | H34: 8747.2 | I34: =((E34*G34-E33+F34*G34)/E33)*D34 -> 0.013100437 | J34: =((H34-H33)/H33)*D34 -> 0.036889521 | K34: =(I34-AVERAGE(I14:I72))^2*D34 -> 7.6457157e-05 | L34: =(J34-AVERAGE(J14:J72))^2*D34 -> 0.0005584832 | M34: =(I34-AVERAGE(I14:I72))*(J34-AVERAGE(J14:J72))*D34 -> 0.00020663987
B35: =EDATE(B34,1) -> 44774 | C35: =C34+1 -> 23 | D35: =IF(C35>$D4,0,1) -> 1 | E35: {=INDEX(_xlfn.STOCKHISTORY('Statements Input'!$C$3,'Beta Calculation'!B35,,2,,1),2)} -> 106.25 | G35: 1 | H35: 8176.1 | I35: =((E35*G35-E34+F35*G35)/E34)*D35 -> -0.084051724 | J35: =((H35-H34)/H34)*D35 -> -0.065289464 | K35: =(I35-AVERAGE(I14:I72))^2*D35 -> 0.0078160067 | L35: =(J35-AVERAGE(J14:J72))^2*D35 -> 0.0061695897 | M35: =(I35-AVERAGE(I14:I72))*(J35-AVERAGE(J14:J72))*D35 -> 0.0069441742
B36: =EDATE(B35,1) -> 44805 | C36: =C35+1 -> 24 | D36: =IF(C36>$D4,0,1) -> 1 | E36: {=INDEX(_xlfn.STOCKHISTORY('Statements Input'!$C$3,'Beta Calculation'!B36,,2,,1),2)} -> 90 | G36: 1 | H36: 8085.1 | I36: =((E36*G36-E35+F36*G36)/E35)*D36 -> -0.15294118 | J36: =((H36-H35)/H35)*D36 -> -0.011130001 | K36: =(I36-AVERAGE(I14:I72))^2*D36 -> 0.024742546 | L36: =(J36-AVERAGE(J14:J72))^2*D36 -> 0.00059473907 | M36: =(I36-AVERAGE(I14:I72))*(J36-AVERAGE(J14:J72))*D36 -> 0.0038360603
B37: =EDATE(B36,1) -> 44835 | C37: =C36+1 -> 25 | D37: =IF(C37>$D4,0,1) -> 1 | E37: {=INDEX(_xlfn.STOCKHISTORY('Statements Input'!$C$3,'Beta Calculation'!B37,,2,,1),2)} -> 97 | G37: 1 | H37: 7806 | I37: =((E37*G37-E36+F37*G37)/E36)*D37 -> 0.077777778 | J37: =((H37-H36)/H36)*D37 -> -0.03452029 | K37: =(I37-AVERAGE(I14:I72))^2*D37 -> 0.0053906901 | L37: =(J37-AVERAGE(J14:J72))^2*D37 -> 0.0022826955 | M37: =(I37-AVERAGE(I14:I72))*(J37-AVERAGE(J14:J72))*D37 -> -0.0035078917
B38: =EDATE(B37,1) -> 44866 | C38: =C37+1 -> 26 | D38: =IF(C38>$D4,0,1) -> 1 | E38: {=INDEX(_xlfn.STOCKHISTORY('Statements Input'!$C$3,'Beta Calculation'!B38,,2,,1),2)} -> 105 | G38: 1 | H38: 7462 | I38: =((E38*G38-E37+F38*G38)/E37)*D38 -> 0.082474227 | J38: =((H38-H37)/H37)*D38 -> -0.044068665 | K38: =(I38-AVERAGE(I14:I72))^2*D38 -> 0.0061023857 | L38: =(J38-AVERAGE(J14:J72))^2*D38 -> 0.0032862631 | M38: =(I38-AVERAGE(I14:I72))*(J38-AVERAGE(J14:J72))*D38 -> -0.0044781743
B39: =EDATE(B38,1) -> 44896 | C39: =C38+1 -> 27 | D39: =IF(C39>$D4,0,1) -> 1 | E39: {=INDEX(_xlfn.STOCKHISTORY('Statements Input'!$C$3,'Beta Calculation'!B39,,2,,1),2)} -> 104 | G39: 1 | H39: 7999 | I39: =((E39*G39-E38+F39*G39)/E38)*D39 -> -0.0095238095 | J39: =((H39-H38)/H38)*D39 -> 0.071964621 | K39: =(I39-AVERAGE(I14:I72))^2*D39 -> 0.00019266184 | L39: =(J39-AVERAGE(J14:J72))^2*D39 -> 0.0034465528 | M39: =(I39-AVERAGE(I14:I72))*(J39-AVERAGE(J14:J72))*D39 -> -0.00081487373
B40: =EDATE(B39,1) -> 44927 | C40: =C39+1 -> 28 | D40: =IF(C40>$D4,0,1) -> 1 | E40: {=INDEX(_xlfn.STOCKHISTORY('Statements Input'!$C$3,'Beta Calculation'!B40,,2,,1),2)} -> 104 | G40: 1 | H40: 8407.9 | I40: =((E40*G40-E39+F40*G40)/E39)*D40 -> 0 | J40: =((H40-H39)/H39)*D40 -> 0.05111889 | K40: =(I40-AVERAGE(I14:I72))^2*D40 -> 1.897873e-05 | L40: =(J40-AVERAGE(J14:J72))^2*D40 -> 0.0014335021 | M40: =(I40-AVERAGE(I14:I72))*(J40-AVERAGE(J14:J72))*D40 -> -0.00016494256
B41: =EDATE(B40,1) -> 44958 | C41: =C40+1 -> 29 | D41: =IF(C41>$D4,0,1) -> 1 | E41: {=INDEX(_xlfn.STOCKHISTORY('Statements Input'!$C$3,'Beta Calculation'!B41,,2,,1),2)} -> 110 | G41: 1 | H41: 8369.7 | I41: =((E41*G41-E40+F41*G41)/E40)*D41 -> 0.057692308 | J41: =((H41-H40)/H40)*D41 -> -0.0045433461 | K41: =(I41-AVERAGE(I14:I72))^2*D41 -> 0.0028447128 | L41: =(J41-AVERAGE(J14:J72))^2*D41 -> 0.000316862 | M41: =(I41-AVERAGE(I14:I72))*(J41-AVERAGE(J14:J72))*D41 -> -0.00094941108
B42: =EDATE(B41,1) -> 44986 | C42: =C41+1 -> 30 | D42: =IF(C42>$D4,0,1) -> 1 | E42: {=INDEX(_xlfn.STOCKHISTORY('Statements Input'!$C$3,'Beta Calculation'!B42,,2,,1),2)} -> 107 | G42: 1 | H42: 9098.1 | I42: =((E42*G42-E41+F42*G42)/E41)*D42 -> -0.027272727 | J42: =((H42-H41)/H41)*D42 -> 0.087028209 | K42: =(I42-AVERAGE(I14:I72))^2*D42 -> 0.0010004054 | L42: =(J42-AVERAGE(J14:J72))^2*D42 -> 0.0054421511 | M42: =(I42-AVERAGE(I14:I72))*(J42-AVERAGE(J14:J72))*D42 -> -0.0023333147
...
