Workbook
Name Cost_of_Capital: 'Venant - DFCF'!$C$4
Name Cost_of_Capital: 'Comcast - DFCF'!$C$4
Name Equity_Risk_Premium: 'Comcast - WACC'!$F$4
Name Parent_Cost_of_Capital: 'Venant - DFCF'!$C$4
Name Parent_Cost_of_Capital: 'Comcast - DFCF'!$C$4
Name Parent_Implied_Discount: Comcast!$F$7
Name Parent_Marginal_Rate: Comcast!$F$5
Name Parent_Share_Price: Comcast!$C$6
Name Parent_Shares: Comcast!$C$5
Name Parent_Weighted_Interest: Comcast!$F$4
Name ParentCo_Enterprise_Value: Comcast!$F$6
Name ParentCo_Market_Cap: Comcast!$C$7
Name Risk_Free_Rate: 'Comcast - WACC'!$F$5
Name Special_Cash_to_ParentCo: 'Versant - Adjustment'!$C$10
Name SubCo_Marginal_Tax_Rate: 'Versant - Adjustment'!$C$14
Name SubCo_Market_Cap: 'Versant - Adjustment'!$C$7
Name Transaction_Cost: 'Versant - Adjustment'!$C$12
Name Units: Comcast!$C$4

Sheet Comcast
B2: Comcast - ParentCo
B4: Units | C4: 1000000 | E4: Weighted Interest | F4: 0.064
B5: Class A Shares | C5: =3603750474/Units -> 3603.7505 | E5: Parent Marginal Rate | F5: 0.21
B6: Share Price | C6: 27.33 | E6: Enterprise Value | F6: =ParentCo_Market_Cap-F75+F101+F110-F82 -> 175318.18
B7: Market Cap | C7: =Parent_Share_Price*Parent_Shares -> 98490.5 | E7: Parent Implied Discount | F7: 0.3
C9: Historical | F9: Projected | S9: 9M
B10: Combined Income Statement | C10: 2022 | D10: 2023 | E10: 2024 | F10: 2025 | G10: =F10+1 -> 2026 | H10: =G10+1 -> 2027 | I10: =H10+1 -> 2028 | J10: =I10+1 -> 2029 | R10: Combined Income Statement 9M | S10: 2024 9M | T10: 2025 9M
B11: (+) Revenue | C11: 121427 | D11: 121572 | E11: 123731 | F11: =F146 -> 125586.96 | G11: =G146 -> 127470.77 | H11: =H146 -> 129382.83 | I11: =I146 -> 131323.57 | J11: =J146 -> 133293.43 | R11: (+) Revenue | S11: 91817 | T11: 91397
B12: (-) Cost of Good Sold | C12: -38213 | D12: -36762 | E12: -37026 | F12: =F13-F11 -> -37676.09 | G12: =G13-G11 -> -38241.231 | H12: =H13-H11 -> -38814.849 | I12: =I13-I11 -> -39397.072 | J12: =J13-J11 -> -39988.028 | R12: (-) Cost of Good Sold | S12: -27000 | T12: -24646
B13: Gross Profit | C13: =SUM(C11:C12) -> 83214 | D13: =SUM(D11:D12) -> 84810 | E13: =SUM(E11:E12) -> 86705 | F13: =F149 -> 87910.875 | G13: =G149 -> 89229.539 | H13: =H149 -> 90567.982 | I13: =I149 -> 91926.501 | J13: =J149 -> 93305.399 | R13: Gross Profit | S13: =SUM(S11:S12) -> 64817 | T13: =SUM(T11:T12) -> 66751
B15: Operating Expenses | R15: Operating Expenses
B16: (-) Marketing and Promotion | C16: -8506 | D16: -7971 | E16: -8073 | F16: =-F152 -> -8163.1527 | G16: =-G152 -> -8285.6 | H16: =-H152 -> -8409.884 | I16: =-I152 -> -8536.0323 | J16: =-J152 -> -8664.0728 | R16: (-) Marketing and Promotion | S16: -5929 | T16: -6435
B17: (-) Other Administrative | C17: -38263 | D17: -39190 | E17: -40533 | F17: =-F155 -> -40399.704 | G17: =-G155 -> -41005.7 | H17: =-H155 -> -41620.785 | I17: =-I155 -> -42245.097 | J17: =-J155 -> -42878.773 | R17: (-) Other Operating and Administrative | S17: -29615 | T17: -31109
B18: (-) Depreciation | C18: -8724 | D18: -8854 | E18: -8729 | F18: =-F158 -> -9009.7391 | G18: =-G158 -> -9144.8852 | H18: =-H158 -> -9282.0585 | I18: =-I158 -> -9421.2893 | J18: =-J158 -> -9562.6087 | R18: (-) Depreciation | S18: -6548 | T18: -6934
B19: (-) Amortization | C19: -5097 | D19: -5482 | E19: -6072 | F19: =-F161 -> -6288.667 | G19: =-G161 -> -6510.4677 | H19: =-H161 -> -6737.5076 | I19: =-I161 -> -6969.8938 | J19: =-J161 -> -7207.7356 | R19: (-) Amortization | S19: -4421 | T19: -5089
B20: (-) Impairment of Goodwill | C20: -8583 | D20: 0 | E20: 0 | F20: =F164 -> 0 | G20: =G164 -> 0 | H20: =H164 -> 0 | I20: =I164 -> 0 | J20: =J164 -> 0 | R20: (-) Impairment | S20: 0 | T20: 0
B21: Total Operating Expenses | C21: =SUM(C16:C20) -> -69173 | D21: =SUM(D16:D20) -> -61497 | E21: =SUM(E16:E20) -> -63407 | F21: =SUM(F16:F20) -> -63861.263 | G21: =SUM(G16:G20) -> -64946.653 | H21: =SUM(H16:H20) -> -66050.235 | I21: =SUM(I16:I20) -> -67172.312 | J21: =SUM(J16:J20) -> -68313.19 | R21: Total Operating Expenses | S21: =SUM(S16:S20) -> -46513 | T21: =SUM(T16:T20) -> -49567
B23: Operating Profit | C23: =C21+C13 -> 14041 | D23: =D21+D13 -> 23313 | E23: =E21+E13 -> 23298 | F23: =F21+F13 -> 24049.613 | G23: =G21+G13 -> 24282.886 | H23: =H21+H13 -> 24517.747 | I23: =I21+I13 -> 24754.189 | J23: =J21+J13 -> 24992.209 | R23: Operating Profit | S23: =S13+S21 -> 18304 | T23: =T13+T21 -> 17184
B24: (-) Interest Expense | C24: -3896 | D24: -4087 | E24: -4134 | F24: =-F237 -> -6341.952 | G24: =-G237 -> -6028.352 | H24: =-H237 -> -5714.752 | I24: =-I237 -> -5349.952 | J24: =-J237 -> -4901.952 | R24: (-) Interest Expense | S24: -3065 | T24: -3283
B25: (+/-) Investment and Other Income | C25: -861 | D25: 1252 | E25: -490 | F25: =F171 -> -33 | G25: =G171 -> -33 | H25: =H171 -> -33 | I25: =I171 -> -33 | J25: =J171 -> -33 | R25: (+/-) Investment and Other Income | S25: -140 | T25: 9705
B26: Earning Before Taxes | C26: =SUM(C23:C25) -> 9284 | D26: =SUM(D23:D25) -> 20478 | E26: =SUM(E23:E25) -> 18674 | F26: =SUM(F23:F25) -> 17674.661 | G26: =SUM(G23:G25) -> 18221.534 | H26: =SUM(H23:H25) -> 18769.995 | I26: =SUM(I23:I25) -> 19371.237 | J26: =SUM(J23:J25) -> 20057.257 | R26: Earning Before Tax | S26: =SUM(S23:S25) -> 15099 | T26: =SUM(T23:T25) -> 23606
B27: (-) Income Tax | C27: -4359 | D27: -5371 | E27: -2796 | F27: =-F166 -> -3711.6787 | G27: =-G166 -> -3826.5222 | H27: =-H166 -> -3941.6989 | I27: =-I166 -> -4067.9598 | J27: =-J166 -> -4212.0239 | R27: (-) Tax | S27: -3906 | T27: -6017
B28: Net Income | C28: =SUM(C26:C27) -> 4925 | D28: =SUM(D26:D27) -> 15107 | E28: =SUM(E26:E27) -> 15878 | F28: =SUM(F26:F27) -> 13962.982 | G28: =SUM(G26:G27) -> 14395.012 | H28: =SUM(H26:H27) -> 14828.296 | I28: =SUM(I26:I27) -> 15303.277 | J28: =SUM(J26:J27) -> 15845.233 | R28: Net Income | S28: =SUM(S26:S27) -> 11193 | T28: =SUM(T26:T27) -> 17589
B29: (-) Non-Controlling Interest | C29: -445 | D29: -282 | E29: -315 | F29: =F169 -> -347.33333 | G29: =G169 -> -347.33333 | H29: =H169 -> -347.33333 | I29: =I169 -> -347.33333 | J29: =J169 -> -347.33333 | R29: (+/-) Attributable to Non-Controlling Interest | S29: 222 | T29: 241
B30: Net Income Attributable to Parent | C30: =SUM(C28:C29) -> 4480 | D30: =SUM(D28:D29) -> 14825 | E30: =SUM(E28:E29) -> 15563 | F30: =SUM(F28:F29) -> 13615.649 | G30: =SUM(G28:G29) -> 14047.679 | H30: =SUM(H28:H29) -> 14480.962 | I30: =SUM(I28:I29) -> 14955.944 | J30: =SUM(J28:J29) -> 15497.899 | R30: Net Income Attributable to Parent | S30: =SUM(S28:S29) -> 11415 | T30: =SUM(T28:T29) -> 17830
C32: Historical | F32: Projected | S32: 9M
B33: Combined Cashflow Statement | C33: 2022 | D33: 2023 | E33: 2024 | F33: 2025 | G33: =F33+1 -> 2026 | H33: =G33+1 -> 2027 | I33: =H33+1 -> 2028 | J33: =I33+1 -> 2029 | R33: Combined Cashflow Statement 9M | S33: 2024 9M | T33: 2025 9M
B34: Net Income | C34: =C28 -> 4925 | D34: =D28 -> 15107 | E34: =E28 -> 15878 | F34: =F28 -> 13962.982 | G34: =G28 -> 14395.012 | H34: =H28 -> 14828.296 | I34: =I28 -> 15303.277 | J34: =J28 -> 15845.233 | R34: Net Income | S34: =S28 -> 11193 | T34: =T28 -> 17589
B35: Adjustment of non-cash | R35: Adjustment for Non-Cash
B36: (+) Depreciation | C36: =-C18 -> 8724 | D36: =-D18 -> 8854 | E36: =-E18 -> 8729 | F36: =-F18 -> 9009.7391 | G36: =-G18 -> 9144.8852 | H36: =-H18 -> 9282.0585 | I36: =-I18 -> 9421.2893 | J36: =-J18 -> 9562.6087 | R36: =B36 -> (+) Depreciation | S36: =-S18 -> 6548 | T36: =-T18 -> 6934
B37: (+) Amortization | C37: =-C19 -> 5097 | D37: =-D19 -> 5482 | E37: =-E19 -> 6072 | F37: =-F19 -> 6288.667 | G37: =-G19 -> 6510.4677 | H37: =-H19 -> 6737.5076 | I37: =-I19 -> 6969.8938 | J37: =-J19 -> 7207.7356 | R37: =B37 -> (+) Amortization | S37: =-S19 -> 4421 | T37: =-T19 -> 5089
B38: (+) Impairment | C38: =-C20 -> 8583 | D38: =-D20 -> 0 | E38: =-E20 -> 0 | F38: =-F20 -> 0 | G38: =-G20 -> 0 | H38: =-H20 -> 0 | I38: =-I20 -> 0 | J38: =-J20 -> 0 | R38: =B38 -> (+) Impairment | S38: =-S20 -> 0 | T38: =-T20 -> 0
B39: (+) Shared-Based Compesation | C39: 1336 | D39: 1241 | E39: 1288 | F39: =F175 -> 1288.3333 | G39: =G175 -> 1288.3333 | H39: =H175 -> 1288.3333 | I39: =I175 -> 1288.3333 | J39: =J175 -> 1288.3333 | R39: =B39 -> (+) Shared-Based Compesation | S39: 983 | T39: 1014
B40: (+) Non-cash Interest Expensed | C40: 309 | D40: 316 | E40: 464 | F40: =F177 -> 363 | G40: =G177 -> 363 | H40: =H177 -> 363 | I40: =I177 -> 363 | J40: =J177 -> 363 | R40: =B40 -> (+) Non-cash Interest Expensed | S40: 331 | T40: 359
B41: (+/-) Net Gain (loss) on investment activity | C41: 1177 | D41: -768 | E41: 1088 | F41: =F179 -> 499 | G41: =G179 -> 499 | H41: =H179 -> 499 | I41: =I179 -> 499 | J41: =J179 -> 499 | R41: =B41 -> (+/-) Net Gain (loss) on investment activity | S41: 620 | T41: -9282
B42: (+/-) Deferred Income Tax | C42: -834 | D42: -2739 | E42: -902 | F42: =F181 -> -1266.7872 | G42: =G181 -> -1305.983 | H42: =H181 -> -1345.2925 | I42: =I181 -> -1388.3851 | J42: =J181 -> -1437.5538 | R42: =B42 -> (+/-) Deferred Income Tax | S42: 123 | T42: 3250
B43: Change in Working Capital | R43: Change in Working Capital
B44: (+/-) Change in Account Receivables | C44: -1327 | D44: -996 | E44: 136 | F44: =E76-F76 -> -86.074916 | G44: =F76-G76 -> -206.20612 | H44: =G76-H76 -> -209.29922 | I44: =H76-I76 -> -212.4387 | J44: =I76-J76 -> -215.62528 | R44: (+/-) Change in Account Receivable | S44: 74 | T44: 716
B45: (+/-) Change in Film and TV Cost | C45: -451 | D45: -260 | E45: 290 | F45: =E81-F81 -> -254.32441 | G45: =F81-G81 -> -191.92987 | H45: =G81-H81 -> -194.80881 | I45: =H81-I81 -> -197.73095 | J45: =I81-J81 -> -200.69691 | R45: (+/-) Change in Film and TV Cost | S45: -287 | T45: -168
B46: (+/-) Change in Account Payables and Accrued | C46: 497 | D46: -520 | E46: -758 | F46: =F94-E94+F96-E96 -> 719.01272 | G46: =G94-F94+G96-F96 -> 61.40039 | H46: =H94-G94+H96-G96 -> 56.836795 | I46: =I94-H94+I96-H96 -> 52.103071 | J46: =J94-I94+J96-I96 -> 47.194847 | R46: (+/-) Change in Account Payable | S46: -906 | T46: -135
...

Sheet Comcast - Adjustment
B2: Comcast - Transaction Adjustments
B4: Transaction Adjustments
B6: Cash from SubCo | C6: =Special_Cash_to_ParentCo -> 2250 | F6: Post-Transaction Equity Value | G6: =ParentCo_Market_Cap-SubCo_Market_Cap -> 90667.385
F7: (-) Cash | G7: =-F49 -> -10155.486
F8: (+) Debt | G8: =F75 -> 94193
B9: (+) Added to assets | C9: =SUM(D49:D61) -> 2250 | F9: (+) Non-Controlling Interest | G9: =F84 -> 706.33333
B10: (-) Remove from Liabilities | C10: =-SUM(E68:E78)-E84 -> 0 | F10: (-) Investments | G10: =-F56 -> -9944.3333
B11: Adjustment to Equity | C11: =SUM(C9:C10) -> 2250 | F11: Post-Transaction Enterprise Value | G11: =SUM(G6:G10) -> 165466.9
D14: Transaction Adjusments | G14: Separated Company
B15: ParentCo - Adjusted Income Statement | C15: =DATE(2025, 12,31) -> 46022 | D15: Debit | E15: Credit | F15: =C15 -> 46022 | G15: =EOMONTH(F15,12) -> 46387 | H15: =EOMONTH(G15,12) -> 46752 | I15: =EOMONTH(H15,12) -> 47118 | J15: =EOMONTH(I15,12) -> 47483
B16: (+) Revenue | C16: =Comcast!F11 -> 125586.96 | G16: =Comcast!G11 -> 127470.77 | H16: =Comcast!H11 -> 129382.83 | I16: =Comcast!I11 -> 131323.57 | J16: =Comcast!J11 -> 133293.43
B17: (-) SubCo - Revenue | G17: =-Versant!G6 -> -6903.8112 | H17: =-Versant!H6 -> -7249.0018 | I17: =-Versant!I6 -> -6814.0617 | J17: =-Versant!J6 -> -6405.218
B18: (-) Cost of Good Sold | C18: =Comcast!F12 -> -37676.09 | G18: =Comcast!G12 -> -38241.231 | H18: =Comcast!H12 -> -38814.849 | I18: =Comcast!I12 -> -39397.072 | J18: =Comcast!J12 -> -39988.028
B19: (+) SubCo - Cost of Good Sold | G19: =-Versant!G7 -> 3133.4426 | H19: =-Versant!H7 -> 3362.6048 | I19: =-Versant!I7 -> 3228.9891 | J19: =-Versant!J7 -> 3099.3019
B20: Post Transcation - Gross Profit | C20: =SUM(C16:C19) -> 87910.875 | G20: =SUM(G16:G19) -> 85459.17 | H20: =SUM(H16:H19) -> 86681.585 | I20: =SUM(I16:I19) -> 88341.429 | J20: =SUM(J16:J19) -> 89999.483
B23: Operating Expenses
B24: (-) Marketing and Promotion | C24: =Comcast!F16 -> -8163.1527 | G24: =Comcast!G16 -> -8285.6 | H24: =Comcast!H16 -> -8409.884 | I24: =Comcast!I16 -> -8536.0323 | J24: =Comcast!J16 -> -8664.0728
B25: (-) Other Administrative | C25: =Comcast!F17 -> -40399.704 | G25: =Comcast!G17 -> -41005.7 | H25: =Comcast!H17 -> -41620.785 | I25: =Comcast!I17 -> -42245.097 | J25: =Comcast!J17 -> -42878.773
B26: (-) Depreciation | C26: =Comcast!F18 -> -9009.7391 | G26: =Comcast!G18 -> -9144.8852 | H26: =Comcast!H18 -> -9282.0585 | I26: =Comcast!I18 -> -9421.2893 | J26: =Comcast!J18 -> -9562.6087
B27: (-) Amortization | C27: =Comcast!F19 -> -6288.667 | G27: =Comcast!G19 -> -6510.4677 | H27: =Comcast!H19 -> -6737.5076 | I27: =Comcast!I19 -> -6969.8938 | J27: =Comcast!J19 -> -7207.7356
B28: (-) Impairment of Goodwill | C28: =Comcast!F20 -> 0 | G28: =Comcast!G20 -> 0 | H28: =Comcast!H20 -> 0 | I28: =Comcast!I20 -> 0 | J28: =Comcast!J20 -> 0
B29: (+) SubCo - SG&A | G29: =-Versant!G11 -> 1182.2821 | H29: =-Versant!H11 -> 1263.1432 | I29: =-Versant!I11 -> 1207.7968 | J29: =-Versant!J11 -> 1154.5446
B30: (+) SubCo - D&A | G30: =-Versant!G12 -> 1008.2693 | H30: =-Versant!H12 -> 1080.4297 | I30: =-Versant!I12 -> 1036.0461 | J30: =-Versant!J12 -> 993.09902
B31: Post Transaction - Total Operating Expenses | C31: =SUM(C24:C30) -> -63861.263 | G31: =SUM(G24:G30) -> -62756.101 | H31: =SUM(H24:H30) -> -63706.662 | I31: =SUM(I24:I30) -> -64928.469 | J31: =SUM(J24:J30) -> -66165.547
B33: Operating Profit | C33: =C20+C31 -> 24049.613 | G33: =G20+G31 -> 22703.069 | H33: =H20+H31 -> 22974.922 | I33: =I20+I31 -> 23412.96 | J33: =J20+J31 -> 23833.936
B34: (-) Interest Expense | C34: =Comcast!F24 -> -6341.952 | G34: =Comcast!G24 -> -6028.352 | H34: =Comcast!H24 -> -5714.752 | I34: =Comcast!I24 -> -5349.952 | J34: =Comcast!J24 -> -4901.952
B35: (+/-) Investment and Other Income | C35: =Comcast!F25 -> -33 | G35: =Comcast!G25 -> -33 | H35: =Comcast!H25 -> -33 | I35: =Comcast!I25 -> -33 | J35: =Comcast!J25 -> -33
B36: (+/-) SubCo - Investment and Other Income | C36: 0 | G36: =-Versant!G16 -> 0 | H36: =-Versant!H16 -> 0 | I36: =-Versant!I16 -> 0 | J36: =-Versant!J16 -> 0
B37: Post Transaction - Earning Before Tax | C37: =SUM(C33:C36) -> 17674.661 | G37: =SUM(G33:G36) -> 16641.717 | H37: =SUM(H33:H36) -> 17227.17 | I37: =SUM(I33:I36) -> 18030.008 | J37: =SUM(J33:J36) -> 18898.984
B38: (-) Tax | C38: =Comcast!F27 -> -3711.6787 | G38: =-G37*Comcast!G167 -> -3494.7605 | H38: =-H37*Comcast!H167 -> -3617.7058 | I38: =-I37*Comcast!I167 -> -3786.3016 | J38: =-J37*Comcast!J167 -> -3968.7867
B39: Post Transaction - Net Income | C39: =SUM(C37:C38) -> 13962.982 | G39: =SUM(G37:G38) -> 13146.956 | H39: =SUM(H37:H38) -> 13609.465 | I39: =SUM(I37:I38) -> 14243.706 | J39: =SUM(J37:J38) -> 14930.198
B40: (+/-) Non-Controlling Interest | C40: =Comcast!F29 -> -347.33333 | G40: =Comcast!G29 -> -347.33333 | H40: =Comcast!H29 -> -347.33333 | I40: =Comcast!I29 -> -347.33333 | J40: =Comcast!J29 -> -347.33333
B41: (+/-) SubCo - Non-Controlling Interest | G41: =-Versant!G20 -> 0 | H41: =-Versant!H20 -> 0 | I41: =-Versant!I20 -> 0 | J41: =-Versant!J20 -> 0
B42: Post-Transaction - Net Income Attributable | C42: =SUM(C39:C41) -> 13615.649 | G42: =SUM(G39:G41) -> 12799.623 | H42: =SUM(H39:H41) -> 13262.131 | I42: =SUM(I39:I41) -> 13896.373 | J42: =SUM(J39:J41) -> 14582.864
D45: Transaction Adjusments | G45: Separated Company
B46: ParentCo - Adjusted Balance Sheet | C46: =DATE(2025, 12,31) -> 46022 | D46: Debit | E46: Credit | F46: =C46 -> 46022 | G46: =EOMONTH(F46,12) -> 46387 | H46: =EOMONTH(G46,12) -> 46752 | I46: =EOMONTH(H46,12) -> 47118 | J46: =EOMONTH(I46,12) -> 47483
B47: Assets
B48: Current Assets
B49: Cash and Cash Equivalents | C49: =Comcast!F75 -> 7986.3199 | D49: =C6 -> 2250 | E49: =-Versant!F55 -> -80.834269 | F49: =SUM(C49:E49) -> 10155.486 | G49: =G132 -> 8060.5867 | H49: =H132 -> 4766.9839 | I49: =I132 -> 1796.8271 | J49: =J132 -> 1587.6154
B50: Trade Receivable | C50: =Comcast!F76 -> 13747.075 | D50: 0 | E50: =-Versant!F56 -> -1143.7469 | F50: =SUM(C50:E50) -> 12603.328 | G50: =SUM(G16:G17)*Comcast!F210 -> 13197.572 | H50: =H16*Comcast!G210 -> 14162.58 | I50: =I16*Comcast!H210 -> 14375.019 | J50: =J16*Comcast!I210 -> 14590.644
...

Sheet Comcast - DFCF
B2: Comcast - Discounted Free Cash Flow
B4: Cost of Capital | C4: ='Comcast - WACC'!C26 -> 0.086586936 | E4: Perpetual | H4: Exit
E5: Growth | F5: 0.015 | H5: EV/EBITDA | I5: 6
B6: Current Shares | C6: =Parent_Shares -> 3603.7505
B7: Projected | C7: =Comcast!J118 -> 2419.9642 | E7: Terminal FCFF | F7: =P40 -> 18415.548 | H7: Terminal EBITDA | I7: =P47 -> 43417.901
E9: Terminal Value | F9: =F7*(1+F5)/(Cost_of_Capital-F5) -> 261106.03 | H9: Terminal Value | I9: =I7*I5 -> 260507.41
E10: Implied EV/EBITDA | F10: =F9/P47 -> 6.0137875 | H10: Implied Growth | I10: =(I9*Cost_of_Capital-P40)/(I9+P40) -> 0.01484636
E12: PV of Terminal | F12: =F9*P43 -> 113807.82 | H12: PV of Terminal | I12: =I9*P43 -> 113546.9
E13: Sum of PV | F13: =SUM(G45:P45) -> 109308.01 | H13: Sum of PV | I13: =SUM(G45:P45) -> 109308.01
E14: (-) Debt | F14: =-'Comcast - Adjustment'!J75 -> -71793 | H14: (-) Debt | I14: =F14 -> -71793
E15: (+) Cash | F15: ='Comcast - Adjustment'!J49 -> 1587.6154 | H15: (+) Cash | I15: =F15 -> 1587.6154
E16: Equity | F16: =SUM(F12:F15) -> 152910.45 | H16: Equity | I16: =SUM(I12:I15) -> 152649.53
E18: Share (Discount Impl.) | F18: =(F16/C7)*(1-Parent_Implied_Discount) -> 44.23095 | H18: Share (Discount Impl.) | I18: =(I16/C7)*(1-Parent_Implied_Discount) -> 44.155476
E19: Upside | F19: =F18/Parent_Share_Price-1 -> 0.61840285 | H19: Upside | I19: =I18/Parent_Share_Price-1 -> 0.61564126
E21: Implied TV over EV | F21: =F12/(F13+F12) -> 0.51008402 | H21: Implied TV over EV | I21: =I12/(I13+I12) -> 0.50951042
C23: HISTORICAL | G23: PROJECTED
B24: Unlevered Free Cash Flow | C24: =DATE(2022,12,31) -> 44926 | D24: =EOMONTH(C24,12) -> 45291 | E24: =EOMONTH(D24,12) -> 45657 | F24: =EOMONTH(E24,12) -> 46022 | G24: =EOMONTH(F24,12) -> 46387 | H24: =EOMONTH(G24,12) -> 46752 | I24: =EOMONTH(H24,12) -> 47118 | J24: =EOMONTH(I24,12) -> 47483 | K24: =EOMONTH(J24,12) -> 47848 | ... P24: =EOMONTH(O24,12) -> 49674
B25: Revenue | C25: =Comcast!C11 -> 121427 | D25: =Comcast!D11 -> 121572 | E25: =Comcast!E11 -> 123731 | F25: ='Comcast - Adjustment'!C16+'Comcast - Adjustment'!C17 -> 125586.96 | G25: ='Comcast - Adjustment'!G16+'Comcast - Adjustment'!G17 -> 120566.96 | H25: ='Comcast - Adjustment'!H16+'Comcast - Adjustment'!H17 -> 122133.83 | I25: ='Comcast - Adjustment'!I16+'Comcast - Adjustment'!I17 -> 124509.51 | J25: ='Comcast - Adjustment'!J16+'Comcast - Adjustment'!J17 -> 126888.21 | K25: =J25*(1+K26) -> 128791.53 | L25: =K25*(1+L26) -> 130594.61 | M25: =L25*(1+M26) -> 132292.34 | N25: =M25*(1+N26) -> 133879.85 | O25: =N25*(1+O26) -> 135352.53 | P25: =O25*(1+P26) -> 136706.06
B26: Growth | D26: =D25/C25-1 -> 0.0011941331 | E26: =E25/D25-1 -> 0.017759023 | F26: =F25/E25-1 -> 0.015 | G26: =G25/F25-1 -> -0.039972355 | H26: =H25/G25-1 -> 0.012995857 | I26: =I25/H25-1 -> 0.01945147 | J26: =J25/I25-1 -> 0.019104543 | K26: 0.015 | L26: =K26-0.1% -> 0.014 | M26: =L26-0.1% -> 0.013 | N26: =M26-0.1% -> 0.012 | O26: =N26-0.1% -> 0.011 | P26: =O26-0.1% -> 0.01
B28: Operating Profit | C28: =Comcast!C23 -> 14041 | D28: =Comcast!D23 -> 23313 | E28: =Comcast!E23 -> 23298 | F28: ='Comcast - Adjustment'!C33 -> 24049.613 | G28: ='Comcast - Adjustment'!G33 -> 22703.069 | H28: ='Comcast - Adjustment'!H33 -> 22974.922 | I28: ='Comcast - Adjustment'!I33 -> 23412.96 | J28: ='Comcast - Adjustment'!J33 -> 23833.936 | K28: =K29*K25 -> 24062.654 | L28: =L29*L25 -> 24268.936 | M28: =M29*M25 -> 24452.14 | N28: =N29*N25 -> 24611.686 | O28: =O29*O25 -> 24747.062 | P28: =P29*P25 -> 24857.827
B29: Margin | C29: =C28/C25 -> 0.11563326 | D29: =D28/D25 -> 0.19176291 | E29: =E28/E25 -> 0.18829558 | F29: =F28/F25 -> 0.19149768 | G29: =G28/G25 -> 0.18830258 | H29: =H28/H25 -> 0.18811268 | I29: =I28/I25 -> 0.18804153 | J29: =J28/J25 -> 0.18783413 | K29: =J29-0.1% -> 0.18683413 | L29: =K29-0.1% -> 0.18583413 | M29: =L29-0.1% -> 0.18483413 | N29: =M29-0.1% -> 0.18383413 | O29: =N29-0.1% -> 0.18283413 | P29: =O29-0.1% -> 0.18183413
B31: (+) D&A | C31: =Comcast!C36+Comcast!C37 -> 13821 | D31: =Comcast!D36+Comcast!D37 -> 14336 | E31: =Comcast!E36+Comcast!E37 -> 14801 | F31: ='Comcast - Adjustment'!C93+'Comcast - Adjustment'!C94 -> 15298.406 | G31: ='Comcast - Adjustment'!G93+'Comcast - Adjustment'!G94 -> 15655.353 | H31: ='Comcast - Adjustment'!H93+'Comcast - Adjustment'!H94 -> 16019.566 | I31: ='Comcast - Adjustment'!I93+'Comcast - Adjustment'!I94 -> 16391.183 | J31: ='Comcast - Adjustment'!J93+'Comcast - Adjustment'!J94 -> 16770.344 | K31: =K32*K25 -> 17099.174 | L31: =L32*L25 -> 17416.92 | M31: =M32*M25 -> 17722.715 | N31: =N32*N25 -> 18015.715 | O31: =O32*O25 -> 18295.1 | P31: =P32*P25 -> 18560.074
B32: % Revenue | C32: =C31/C25 -> 0.11382147 | D32: =D31/D25 -> 0.11792189 | E32: =E31/E25 -> 0.11962241 | F32: =F31/F25 -> 0.12181524 | G32: =G31/G25 -> 0.12984779 | H32: =H31/H25 -> 0.13116404 | I32: =I31/I25 -> 0.13164603 | J32: =J31/J25 -> 0.13216629 | K32: =J32+0.06% -> 0.13276629 | L32: =K32+0.06% -> 0.13336629 | M32: =L32+0.06% -> 0.13396629 | N32: =M32+0.06% -> 0.13456629 | O32: =N32+0.06% -> 0.13516629 | P32: =O32+0.06% -> 0.13576629
B34: (-) CAPEX | C34: =Comcast!C51+Comcast!C52+Comcast!C55+Comcast!C60 -> -29699 | D34: =Comcast!D51+Comcast!D52+Comcast!D55+Comcast!D60 -> -28911 | E34: =Comcast!E51+Comcast!E52+Comcast!E55+Comcast!E60 -> -25431 | F34: =SUM('Comcast - Adjustment'!C111:C113)+'Comcast - Adjustment'!C116+'Comcast - Adjustment'!C117+'Comcast - Adjustment'!C122 -> -23252.141 | G34: =SUM('Comcast - Adjustment'!G111:G113)+'Comcast - Adjustment'!G116+'Comcast - Adjustment'!G117+'Comcast - Adjustment'!G122 -> -23520.799 | H34: =SUM('Comcast - Adjustment'!H111:H113)+'Comcast - Adjustment'!H116+'Comcast - Adjustment'!H117+'Comcast - Adjustment'!H122 -> -23848.529 | I34: =SUM('Comcast - Adjustment'!I111:I113)+'Comcast - Adjustment'!I116+'Comcast - Adjustment'!I117+'Comcast - Adjustment'!I122 -> -24187.065 | J34: =SUM('Comcast - Adjustment'!J111:J113)+'Comcast - Adjustment'!J116+'Comcast - Adjustment'!J117+'Comcast - Adjustment'!J122 -> -24530.434 | K34: =K35*-K25 -> -24833.994 | L34: =L35*-L25 -> -25116.373 | M34: =M35*-M25 -> -25376.74 | N34: =N35*-N25 -> -25614.321 | O34: =O35*-O25 -> -25828.402 | P34: =P35*-P25 -> -26018.333
B35: % Revenue | C35: =-C34/C25 -> 0.24458317 | D35: =-D34/D25 -> 0.23780969 | E35: =-E34/E25 -> 0.20553459 | F35: =-F34/F25 -> 0.18514773 | G35: =-G34/G25 -> 0.19508495 | H35: =-H34/H25 -> 0.19526555 | I35: =-I34/I25 -> 0.19425877 | J35: =-J34/J25 -> 0.19332319 | K35: =J35-0.05% -> 0.19282319 | L35: =K35-0.05% -> 0.19232319 | M35: =L35-0.05% -> 0.19182319 | N35: =M35-0.05% -> 0.19132319 | O35: =N35-0.05% -> 0.19082319 | P35: =O35-0.05% -> 0.19032319
B37: (+/-) Working Capital | C37: =Comcast!C48 -> -2904 | D37: =Comcast!D48 -> 1008 | E37: =Comcast!E48 -> -4943 | F37: ='Comcast - Adjustment'!C108 -> 1007.888 | G37: ='Comcast - Adjustment'!G108 -> 56.251037 | H37: ='Comcast - Adjustment'!H108 -> -597.33813 | I37: ='Comcast - Adjustment'!I108 -> 514.43737 | J37: ='Comcast - Adjustment'!J108 -> 535.01972 | K37: =(K25-J25)*K38 -> 1428.6671 | L37: =(L25-K25)*L38 -> 1353.424 | M37: =(M25-L25)*M38 -> 1274.3454 | N37: =(N25-M25)*N38 -> 1191.6109 | O37: =(O25-N25)*O38 -> 1105.4178 | P37: =(P25-O25)*P38 -> 1015.9794
B38: % Change in Revenue | D38: =D37/(D25-C25) -> 6.9517241 | E38: =E37/(E25-D25) -> -2.2894859 | F38: =F37/(F25-E25) -> 0.54305332 | G38: =G37/(G25-F25) -> -0.011205371 | H38: =H37/(H25-G25) -> -0.38122994 | I38: =I37/(I25-H25) -> 0.21654298 | J38: =J37/(J25-I25) -> 0.22492131 | K38: =AVERAGE(D38:J38) -> 0.75061722 | L38: =K38 -> 0.75061722 | M38: =L38 -> 0.75061722 | N38: =M38 -> 0.75061722 | O38: =N38 -> 0.75061722 | P38: =O38 -> 0.75061722
B40: Unlevered Free Cash Flow | C40: =C28+C31+C34+C37 -> -4741 | D40: =D28+D31+D34+D37 -> 9746 | E40: =E28+E31+E34+E37 -> 7725 | F40: =F28+F31+F34+F37 -> 17103.766 | G40: =G28+G31+G34+G37 -> 14893.873 | H40: =H28+H31+H34+H37 -> 14548.621 | I40: =I28+I31+I34+I37 -> 16131.515 | J40: =J28+J31+J34+J37 -> 16608.867 | ... P40: =P28+P31+P34+P37 -> 18415.548
B42: Period | G42: 1 | H42: 2 | I42: 3 | J42: 4 | K42: 5 | L42: 6 | M42: 7 | N42: 8 | O42: 9 | P42: 10
B43: Discount Factor | G43: =1/(1+Parent_Cost_of_Capital)^G42 -> 0.92031292 | H43: =1/(1+Parent_Cost_of_Capital)^H42 -> 0.84697588 | I43: =1/(1+Parent_Cost_of_Capital)^I42 -> 0.77948285 | J43: =1/(1+Parent_Cost_of_Capital)^J42 -> 0.71736814 | K43: =1/(1+Parent_Cost_of_Capital)^K42 -> 0.66020317 | L43: =1/(1+Parent_Cost_of_Capital)^L42 -> 0.60759351 | M43: =1/(1+Parent_Cost_of_Capital)^M42 -> 0.55917616 | N43: =1/(1+Parent_Cost_of_Capital)^N42 -> 0.51461704 | ... P43: =1/(1+Parent_Cost_of_Capital)^P42 -> 0.43586822
B45: PV | G45: =G40*G43 -> 13707.024 | H45: =H40*H43 -> 12322.331 | I45: =I40*I43 -> 12574.239 | J45: =J40*J43 -> 11914.672 | K45: =K40*K43 -> 11722.898 | L45: =L40*L43 -> 10889.842 | M45: =M40*M43 -> 10105.689 | N45: =N40*N43 -> 9368.4446 | ... P45: =P40*P43 -> 8026.752
B47: EBITDA | C47: =C28+C31 -> 27862 | D47: =D28+D31 -> 37649 | E47: =E28+E31 -> 38099 | F47: =F28+F31 -> 39348.019 | G47: =G28+G31 -> 38358.422 | H47: =H28+H31 -> 38994.489 | I47: =I28+I31 -> 39804.143 | J47: =J28+J31 -> 40604.281 | ... P47: =P28+P31 -> 43417.901
B50: Perpetual Growth
B51: =F18 -> 44.23095 | C51: 0 | D51: =C51+0.5% -> 0.005 | E51: =D51+0.5% -> 0.01 | F51: =E51+0.5% -> 0.015 | G51: =F51+0.5% -> 0.02 | H51: =G51+0.5% -> 0.025
B52: 0.0666 | C52: 56.439013 | D52: 60.072926 | E52: 64.348874 | F52: 69.453494 | G52: 75.653525 | H52: 83.343949
B53: =B52+1% -> 0.0766 | C53: 46.073641 | D53: 48.572908 | E53: 51.44744 | F53: 54.788616 | G53: 58.720106 | H53: 63.413513
B54: =B53+1% -> 0.0866 | C54: 38.116582 | D54: 39.901459 | E54: 41.919349 | F54: 44.219068 | G54: 46.864089 | H54: 49.938497
B55: =B54+1% -> 0.0966 | C55: 31.81911 | D55: 33.131724 | E55: 34.595909 | F55: 36.23953 | G55: 38.097722 | H55: 40.215438
B56: =B55+1% -> 0.1066 | C56: 26.713503 | D56: 27.701776 | E56: 28.792354 | F56: 30.001991 | G56: 31.351309 | H56: 32.865985
B57: =B56+1% -> 0.1166 | C57: 22.492538 | D57: 23.25112 | E57: 24.080863 | F57: 24.992274 | G57: 25.998034 | H57: 27.113593
...

Sheet Comcast - WACC
B2: Comcast - WACC
B4: Comcast Segment | C4: Weight Revenue | E4: Equity Risk Premium | F4: 0.05
B5: Connectivity and Platform | C5: 0.626 | E5: Risk Free Rate | F5: 0.041
B6: Content & Experience | C6: 0.393
B8: Connectivity and Platform | F8: Content & Experience
B9: Company Name | C9: Ticker | D9: Beta | F9: Company Name | G9: Ticker | H9: Beta
B10: AT&T | C10: T | D10: 0.59 | F10: Warner Bros discovery | G10: WBD | H10: 1.61
B11: Verizon | C11: VZ | D11: 0.32 | F11: Fox Corp | G11: FOXA | H11: 0.51
B12: Charter | C12: CHTR | D12: 1.07 | F12: Disney | G12: DIS | H12: 1.5
B13: T-Mobile | C13: TMUS | D13: 0.44 | F13: Median | H13: =MEDIAN(H10:H12) -> 1.5
B14: Median | D14: =MEDIAN(D10:D13) -> 0.515
C17: Weighted Beta | D17: Post-Transaction Debt | E17: Post-Transaction Equity | F17: Debt % | G17: Equity %
B18: Comcast | C18: =D14*C5+C6*H13 -> 0.91189 | D18: ='Comcast - Adjustment'!F75 -> 94193 | E18: ='Comcast - Adjustment'!G6 -> 90667.385 | F18: =D18/(E18+D18) -> 0.50953589 | G18: =1-F18 -> 0.49046411
B20: Levered Beta | C20: =C18*(1+(1-Parent_Marginal_Rate)*(F18/G18)) -> 1.6602957
B21: Cost of Equity | C21: =Risk_Free_Rate+(Equity_Risk_Premium*C20) -> 0.12401478
B23: Cost of Debt - Pre Tax | C23: =Parent_Weighted_Interest -> 0.064
B24: Cost of Debt - After Tax | C24: =C23*(1-Parent_Marginal_Rate) -> 0.05056
B26: Cost of Capital | C26: =C24*F18+C21*G18 -> 0.086586936

Sheet Comcast - SOTP
B3: Comcast - Sum of the Part
B5: Segment | C5: Weight | D5: Estimated 2026 EBITDA | E5: Target Multiple | F5: EV
B6: Connectivity and Platform | C6: 0.7 | D6: =C6*'Comcast - DFCF'!G47 -> 26850.895 | E6: 6.5 | F6: =E6*D6 -> 174530.82
B7: Content & Experiences | C7: 0.3 | D7: =C7*'Comcast - DFCF'!G47 -> 11507.527 | E7: 9 | F7: =E7*D7 -> 103567.74
B8: Summation | E8: =AVERAGE(E6:E7) -> 7.75 | F8: =SUM(F6:F7) -> 278098.56
E10: (-) Net Debt | F10: =-'Comcast - Adjustment'!F75+'Comcast - Adjustment'!F49 -> -84037.514
E11: Equity | F11: =SUM(F8:F10) -> 194061.04
E12: Share | F12: =F11/Parent_Shares -> 53.849745
E14: Discount | F14: =F12*(1-Parent_Implied_Discount) -> 37.694821
E15: Upside from Price | F15: =F14/Parent_Share_Price-1 -> 0.37924703

Sheet Versant
B2: Versant - SubCo - Projection Separated Company
S3: 9M
C4: Historical | F4: Projected | R4: Income Statement 9M | S4: 2024 9M | T4: 2025 9M
B5: Income Statement | C5: 2022 | D5: 2023 | E5: 2024 | F5: 2025 | G5: =F5+1 -> 2026 | H5: =G5+1 -> 2027 | I5: =H5+1 -> 2028 | J5: =I5+1 -> 2029 | R5: =B6 -> (+) Revenue | S5: 5339 | T5: 5078
B6: (+) Revenue | C6: 7834 | D6: 7445 | E6: 7062 | F6: =F94 -> 6638.28 | G6: =G94 -> 6903.8112 | H6: =H94 -> 7249.0018 | I6: =I94 -> 6814.0617 | J6: =J94 -> 6405.218 | R6: =B7 -> (-) Cost of Good Sold | S6: -2395 | T6: -2227
B7: (-) Cost of Good Sold | C7: -3161 | D7: -3154 | E7: -3064 | F7: =F8-F6 -> -2946.5428 | G7: =G8-G6 -> -3133.4426 | H7: =H8-H6 -> -3362.6048 | I7: =I8-I6 -> -3228.9891 | J7: =J8-J6 -> -3099.3019 | R7: Gross Profit | S7: =SUM(S5:S6) -> 2944 | T7: =SUM(T5:T6) -> 2851
B8: Gross Profit | C8: =SUM(C6:C7) -> 4673 | D8: =SUM(D6:D7) -> 4291 | E8: =SUM(E6:E7) -> 3998 | F8: =F97 -> 3691.7372 | G8: =G97 -> 3770.3686 | H8: =H97 -> 3886.397 | I8: =I97 -> 3585.0726 | J8: =J97 -> 3305.916
B10: Operating Expenses | R10: Operating Expenses
B11: (-) SG&A | C11: -1271 | D11: -1231 | E11: -1167 | F11: =-F100 -> -1116.8948 | G11: =-G100 -> -1182.2821 | H11: =-H100 -> -1263.1432 | I11: =-I100 -> -1207.7968 | J11: =-J100 -> -1154.5446 | R11: (-) SG&A | S11: -868 | T11: -1034
B12: (-) Depreciation and Amortization | C12: -992 | D12: -991 | E12: -989 | F12: =-F103 -> -949.57484 | G12: =-G103 -> -1008.2693 | H12: =-H103 -> -1080.4297 | I12: =-I103 -> -1036.0461 | J12: =-J103 -> -993.09902 | R12: (-) Depreciation and Amortization | S12: -745 | T12: -744
B13: Total Operating Expenses | C13: =SUM(C11:C12) -> -2263 | D13: =SUM(D11:D12) -> -2222 | E13: =SUM(E11:E12) -> -2156 | F13: =SUM(F11:F12) -> -2066.4697 | G13: =SUM(G11:G12) -> -2190.5513 | H13: =SUM(H11:H12) -> -2343.5729 | I13: =SUM(I11:I12) -> -2243.8429 | J13: =SUM(J11:J12) -> -2147.6436 | R13: Total Operating Expenses | S13: =SUM(S11:S12) -> -1613 | T13: =SUM(T11:T12) -> -1778
B15: Operating Profit | C15: =C8+C13 -> 2410 | D15: =D8+D13 -> 2069 | E15: =E8+E13 -> 1842 | F15: =F8+F13 -> 1625.2675 | G15: =G8+G13 -> 1579.8172 | H15: =H8+H13 -> 1542.8241 | I15: =I8+I13 -> 1341.2296 | J15: =J8+J13 -> 1158.2724 | R15: Operating Profit | S15: =S13+S7 -> 1331 | T15: =T13+T7 -> 1073
B16: (+/-) Investment and Other Income | C16: -61 | D16: 0 | E16: 1 | F16: =F106 -> 0 | G16: =G106 -> 0 | H16: =H106 -> 0 | I16: =I106 -> 0 | J16: =J106 -> 0 | R16: (+/-) Investment and Other Income | S16: 0 | T16: -40
B17: Earning Before Tax | C17: =C16+C15 -> 2349 | D17: =D16+D15 -> 2069 | E17: =E16+E15 -> 1843 | F17: =F16+F15 -> 1625.2675 | G17: =G16+G15 -> 1579.8172 | H17: =H16+H15 -> 1542.8241 | I17: =I16+I15 -> 1341.2296 | J17: =J16+J15 -> 1158.2724 | R17: Earning Before Tax | S17: =SUM(S15:S16) -> 1331 | T17: =SUM(T15:T16) -> 1033
B18: (-) Income Tax | C18: -591 | D18: -530 | E18: -478 | F18: =-F108 -> -406.31688 | G18: =-G108 -> -394.95431 | H18: =-H108 -> -385.70602 | I18: =-I108 -> -335.30741 | J18: =-J108 -> -289.56809 | R18: (-) Income Tax | S18: -345 | T18: -283
B19: Net Income | C19: =SUM(C17:C18) -> 1758 | D19: =SUM(D17:D18) -> 1539 | E19: =SUM(E17:E18) -> 1365 | F19: =SUM(F17:F18) -> 1218.9506 | G19: =SUM(G17:G18) -> 1184.8629 | H19: =SUM(H17:H18) -> 1157.1181 | I19: =SUM(I17:I18) -> 1005.9222 | J19: =SUM(J17:J18) -> 868.70428 | R19: Net Income | S19: =SUM(S17:S18) -> 986 | T19: =SUM(T17:T18) -> 750
B20: (-) Attributable to Non-controlling | C20: -6 | D20: 0 | E20: 2 | F20: =F111 -> 0 | G20: =G111 -> 0 | H20: =H111 -> 0 | I20: =I111 -> 0 | J20: =J111 -> 0 | R20: =B20 -> (-) Attributable to Non-controlling | S20: 1 | T20: 0
B21: Net Income Attributable to Parent | C21: =SUM(C19:C20) -> 1752 | D21: =SUM(D19:D20) -> 1539 | E21: =SUM(E19:E20) -> 1367 | F21: =SUM(F19:F20) -> 1218.9506 | G21: =SUM(G19:G20) -> 1184.8629 | H21: =SUM(H19:H20) -> 1157.1181 | I21: =SUM(I19:I20) -> 1005.9222 | J21: =SUM(J19:J20) -> 868.70428 | R21: Net Income Attributable to Parent | S21: =SUM(S19:S20) -> 987 | T21: =SUM(T19:T20) -> 750
C23: Historical | F23: Projected | S23: 9M
B24: Cashflow Statement | C24: 2022 | D24: 2023 | E24: 2024 | F24: 2025 | G24: =F24+1 -> 2026 | H24: =G24+1 -> 2027 | I24: =H24+1 -> 2028 | J24: =I24+1 -> 2029 | R24: Cashflow Statement | S24: =S4 -> 2024 9M | T24: =T4 -> 2025 9M
B25: Net Income | C25: =C19 -> 1758 | D25: =D19 -> 1539 | E25: =E19 -> 1365 | F25: =F19 -> 1218.9506 | G25: =G19 -> 1184.8629 | H25: =H19 -> 1157.1181 | I25: =I19 -> 1005.9222 | J25: =J19 -> 868.70428 | R25: =B25 -> Net Income | S25: =S19 -> 986 | T25: =T19 -> 750
B26: Non-Cash Adjustments | R26: =B26 -> Non-Cash Adjustments
B27: (+) D&A | C27: =-C12 -> 992 | D27: =-D12 -> 991 | E27: =-E12 -> 989 | F27: =-F12 -> 949.57484 | G27: =-G12 -> 1008.2693 | H27: =-H12 -> 1080.4297 | I27: =-I12 -> 1036.0461 | J27: =-J12 -> 993.09902 | R27: =B27 -> (+) D&A | S27: =-S12 -> 745 | T27: =-T12 -> 744
B28: (+) Shared Based Compesation | C28: 17 | D28: 15 | E28: 16 | F28: =F115 -> 16 | G28: =G115 -> 16 | H28: =H115 -> 16 | I28: =I115 -> 16 | J28: =J115 -> 16 | R28: =B28 -> (+) Shared Based Compesation | S28: 12 | T28: 21
B29: (+/-) Net Gain / Loss on investment | C29: 62 | D29: 1 | E29: 0 | F29: =F116 -> 0 | G29: =G116 -> 0 | H29: =H116 -> 0 | I29: =I116 -> 0 | J29: =J116 -> 0 | R29: =B29 -> (+/-) Net Gain / Loss on investment | S29: 1 | T29: 41
B30: (+/-) Deferred Income Taxes | C30: -151 | D30: -135 | E30: -145 | F30: =F118 -> -121.89506 | G30: =G118 -> -78.990862 | H30: =H118 -> -38.570602 | I30: =I118 -> 0 | J30: =J118 -> 28.956809 | R30: =B30 -> (+/-) Deferred Income Taxes | S30: -105 | T30: -94
B31: Change in Working Capital | R31: =B31 -> Change in Working Capital
B32: (+/-) Change in Receivables | C32: -62 | D32: 41 | E32: 100 | F32: =E56-F56 -> 101.25312 | G32: =F56-G56 -> -18.13463 | H32: =G56-H56 -> -29.098068 | I32: =H56-I56 -> 98.715021 | J32: =I56-J56 -> 91.156745 | R32: =B32 -> (+/-) Change in Receivables | S32: 57 | T32: 48
B33: (+/-) Change in Content Cost | C33: -42 | D33: 155 | E33: 68 | F33: =E61-F61 -> 64.89312 | G33: =F61-G61 -> 4.6509696 | H33: =G61-H61 -> 0.52321152 | I33: =H61-I61 -> 61.392209 | J33: =I61-J61 -> 56.073301 | R33: =B33 -> (+/-) Change in Content Cost | S33: 53 | T33: 63
B34: (+/-) Change in Account Payables | C34: -48 | D34: -12 | E34: -3 | F34: =F72-E72 -> -4.2559841 | G34: =G72-F72 -> 5.8690623 | H34: =H72-G72 -> 7.2379206 | I34: =I72-H72 -> -4.7172292 | J34: =J72-I72 -> -4.5502253 | R34: =B34 -> (+/-) Change in Account Payables | S34: -21 | T34: -7
B35: (+/-) Other Assets/Liabilities | C35: -15 | D35: -167 | E35: -179 | F35: =E65-F65+F73-E73+F74-E74+F75-E75+F80-E80+F81-E81 -> -20.063994 | G35: =F65-G65+G73-F73+G74-F74+G75-F75+G80-F80+G81-F81 -> 30.305029 | H35: =G65-H65+H73-G73+H74-G74+H75-G75+H80-G80+H81-G81 -> 36.681598 | I35: =H65-I65+I73-H73+I74-H74+I75-H75+I80-H80+I81-H81 -> -23.810482 | J35: =I65-J65+J73-I73+J74-I74+J75-I75+J80-I80+J81-I81 -> -23.454152 | R35: =B35 -> (+/-) Other Assets/Liabilities | S35: -126 | T35: -20
B36: Net Change from Working Capital | C36: =SUM(C32:C35) -> -167 | D36: =SUM(D32:D35) -> 17 | E36: =SUM(E32:E35) -> -14 | F36: =SUM(F32:F35) -> 141.82626 | G36: =SUM(G32:G35) -> 22.69043 | H36: =SUM(H32:H35) -> 15.344661 | I36: =SUM(I32:I35) -> 131.57952 | J36: =SUM(J32:J35) -> 119.22567 | R36: =B36 -> Net Change from Working Capital | S36: =SUM(S32:S35) -> -37 | T36: =SUM(T32:T35) -> 84
B37: Cash from Operations | C37: =C36+SUM(C25:C30) -> 2511 | D37: =D36+SUM(D25:D30) -> 2428 | E37: =E36+SUM(E25:E30) -> 2211 | F37: =F36+SUM(F25:F30) -> 2204.4567 | G37: =G36+SUM(G25:G30) -> 2152.8318 | H37: =H36+SUM(H25:H30) -> 2230.3219 | I37: =I36+SUM(I25:I30) -> 2189.5479 | J37: =J36+SUM(J25:J30) -> 2025.9858 | R37: =B37 -> Cash from Operations | S37: =S36+SUM(S25:S30) -> 1602 | T37: =T36+SUM(T25:T30) -> 1546
B39: (-) CAPEX | C39: -65 | D39: -56 | E39: -54 | F39: =-F121 -> -49.7871 | G39: =-G121 -> -51.778584 | H39: =-H121 -> -54.367513 | I39: =-I121 -> -51.105462 | J39: =-J121 -> -48.039135 | R39: =B39 -> (-) CAPEX | S39: -37 | T39: -121
B40: (-) Other Investment | C40: 27 | D40: -4 | E40: -17 | F40: =F124 -> -5 | G40: =G124 -> -5 | H40: =H124 -> -5 | I40: =I124 -> -5 | J40: =J124 -> -5 | R40: =B40 -> (-) Other Investment | S40: -15 | T40: 35
B41: Cash from Investing | C41: =SUM(C39:C40) -> -38 | D41: =SUM(D39:D40) -> -60 | E41: =SUM(E39:E40) -> -71 | F41: =SUM(F39:F40) -> -54.7871 | G41: =SUM(G39:G40) -> -56.778584 | H41: =SUM(H39:H40) -> -59.367513 | I41: =SUM(I39:I40) -> -56.105462 | J41: =SUM(J39:J40) -> -53.039135 | R41: =B41 -> Cash from Investing | S41: =SUM(S39:S40) -> -52 | T41: =SUM(T39:T40) -> -86
B43: (-) Change in Net Parent Investment | C43: -2492 | D43: -2359 | E43: -2142 | F43: =-F126 -> -2076.1686 | G43: =-G126 -> -2159.2154 | H43: =-H126 -> -2267.1762 | I43: =-I126 -> -2131.1456 | J43: =-J126 -> -2003.2769 | R43: =B43 -> (-) Change in Net Parent Investment | S43: -1535 | T43: -1401
B44: (+/-) Other | C44: 6 | D44: 4 | E44: -12 | F44: =F129 -> -0.66666667 | G44: =G129 -> -0.66666667 | H44: =H129 -> -0.66666667 | I44: =I129 -> -0.66666667 | J44: =J129 -> -0.66666667 | R44: =B44 -> (+/-) Other | S44: -18 | T44: -12
B45: Cash from Financing | C45: =SUM(C43:C44) -> -2486 | D45: =SUM(D43:D44) -> -2355 | E45: =SUM(E43:E44) -> -2154 | F45: =SUM(F43:F44) -> -2076.8353 | G45: =SUM(G43:G44) -> -2159.8821 | H45: =SUM(H43:H44) -> -2267.8428 | I45: =SUM(I43:I44) -> -2131.8123 | J45: =SUM(J43:J44) -> -2003.9435 | R45: =B45 -> Cash from Financing | S45: =SUM(S43:S44) -> -1553 | T45: =SUM(T43:T44) -> -1413
B47: Net Change | C47: =C37+C41+C45 -> -13 | D47: =D37+D41+D45 -> 13 | E47: =E37+E41+E45 -> -14 | F47: =F37+F41+F45 -> 72.834269 | G47: =G37+G41+G45 -> -63.828872 | H47: =H37+H41+H45 -> -96.888485 | I47: =I37+I41+I45 -> 1.6301722 | J47: =J37+J41+J45 -> -30.996869
...

Sheet Versant - Adjustment
B2: Versant - Transaction Adjustments
B4: Transaction Assumptions | G4: Pro Forma Adjustment
B5: Distribution Ratio | C5: =1/25 -> 0.04 | G5: SubCo Overhead % Revenue | J5: 0.07
B6: Shares of New Company | C6: =C5*Parent_Shares -> 144.15002 | G6: Additional CAPEX | J6: 98
B7: Market Cap | C7: =C8*C6 -> 7823.1153
B8: Price of Share at Distribution Time | C8: =F85/C6 -> 54.270651 | G8: New Debt Proceeds | J8: 3000
G9: Debt Fee | J9: 45
B10: Special Cash to Comcast | C10: 2250 | G10: Interest Rate | J10: 0.0725
B12: Transaction Cost | C12: 37 | G12: Cash Before Transaction | J12: =C53 -> 80.834269
G13: (-) Payment to Parent | J13: =-C10 -> -2250
B14: Marginal Tax Rate | C14: 0.25 | G14: (+) Debt Proceeds | J14: =J8 -> 3000
G15: (-) Debt Fee | J15: =-J9 -> -45
G16: Cash Ending Transaction | J16: =SUM(J12:J15) -> 785.83427
B17: Post-Transaction Equity | C17: =SubCo_Market_Cap -> 7823.1153
B18: (-) Cash | C18: =F53 -> 785.83427
B19: (+) Debt | C19: =F80 -> 2955
B20: (+) Non-Controlling Interest | C20: =F84 -> 118
B21: (-) Investments | C21: =-F60 -> -259
B22: Post-Transaction Enterprise Value | C22: =SUM(C17:C21) -> 11422.95
D26: Transaction Adjusments | G26: Separated Company
B27: SubCo - Adjusted Income Statement | C27: =DATE(2025, 12,31) -> 46022 | D27: Debit | E27: Credit | F27: =C27 -> 46022 | G27: =EOMONTH(F27,12) -> 46387 | H27: =EOMONTH(G27,12) -> 46752 | I27: =EOMONTH(H27,12) -> 47118 | J27: =EOMONTH(I27,12) -> 47483
B28: (+) Revenue | C28: =Versant!F6 -> 6638.28 | G28: =Versant!G6 -> 6903.8112 | H28: =Versant!H6 -> 7249.0018 | I28: =Versant!I6 -> 6814.0617 | J28: =Versant!J6 -> 6405.218
B29: (-) Cost of Good Sold | C29: =Versant!F7 -> -2946.5428 | G29: =Versant!G7 -> -3133.4426 | H29: =Versant!H7 -> -3362.6048 | I29: =Versant!I7 -> -3228.9891 | J29: =Versant!J7 -> -3099.3019
B30: Post Transaction - Gross Profit | C30: =SUM(C28:C29) -> 3691.7372 | G30: =SUM(G28:G29) -> 3770.3686 | H30: =SUM(H28:H29) -> 3886.397 | I30: =SUM(I28:I29) -> 3585.0726 | J30: =SUM(J28:J29) -> 3305.916
B32: Operating Expenses
B33: (-) SG&A | C33: =Versant!F11 -> -1116.8948 | G33: =Versant!G11 -> -1182.2821 | H33: =Versant!H11 -> -1263.1432 | I33: =Versant!I11 -> -1207.7968 | J33: =Versant!J11 -> -1154.5446
B34: (-) One Time Fee | C34: 0 | G34: =-Transaction_Cost -> -37 | H34: 0 | I34: 0 | J34: 0
B35: (-) Additional SG&A | C35: 0 | G35: =G28*-$J$5 -> -483.26678 | H35: =H28*-$J$5 -> -507.43012 | I35: =I28*-$J$5 -> -476.98432 | J35: =J28*-$J$5 -> -448.36526
B36: (-) Depreciation and Amortization | C36: =Versant!F12 -> -949.57484 | G36: =Versant!G12 -> -1008.2693 | H36: =Versant!H12 -> -1080.4297 | I36: =Versant!I12 -> -1036.0461 | J36: =Versant!J12 -> -993.09902
B37: Post Transaction - Total Operating Expenses | C37: =SUM(C33:C36) -> -2066.4697 | G37: =SUM(G33:G36) -> -2710.8181 | H37: =SUM(H33:H36) -> -2851.003 | I37: =SUM(I33:I36) -> -2720.8272 | J37: =SUM(J33:J36) -> -2596.0089
B39: Operating Profit | C39: =C37+C30 -> 1625.2675 | G39: =G37+G30 -> 1059.5505 | H39: =H37+H30 -> 1035.394 | I39: =I37+I30 -> 864.24533 | J39: =J37+J30 -> 709.90712
B40: (+/-) Investment and Other Income | C40: =Versant!F16 -> 0 | G40: =Versant!G16 -> 0 | H40: =Versant!H16 -> 0 | I40: =Versant!I16 -> 0 | J40: =Versant!J16 -> 0
B41: (-) Interest Expenses | C41: 0 | G41: =-$J$10*F80 -> -214.2375 | H41: =-$J$10*G80 -> -214.2375 | I41: =-$J$10*H80 -> -214.2375 | J41: =-$J$10*I80 -> -214.2375
B42: Earning Before Tax | C42: =C40+C39 -> 1625.2675 | G42: =SUM(G39:G41) -> 845.31296 | H42: =SUM(H39:H41) -> 821.15645 | I42: =SUM(I39:I41) -> 650.00783 | J42: =SUM(J39:J41) -> 495.66962
B43: (-) Tax | C43: =Versant!F18 -> -406.31688 | G43: =-G42*SubCo_Marginal_Tax_Rate -> -211.32824 | H43: =-H42*SubCo_Marginal_Tax_Rate -> -205.28911 | I43: =-I42*SubCo_Marginal_Tax_Rate -> -162.50196 | J43: =-J42*SubCo_Marginal_Tax_Rate -> -123.91741
B44: Net Income | C44: =C42+C43 -> 1218.9506 | G44: =G42+G43 -> 633.98472 | H44: =H42+H43 -> 615.86734 | I44: =I42+I43 -> 487.50587 | J44: =J42+J43 -> 371.75222
B45: (-) Attributable to Non-controlling | C45: =Versant!F20 -> 0 | G45: =Versant!G20 -> 0 | H45: =Versant!H20 -> 0 | I45: =Versant!I20 -> 0 | J45: =Versant!J20 -> 0
B46: Post Transaction - Net Income Attributable to Parent | C46: =SUM(C44:C45) -> 1218.9506 | G46: =SUM(G44:G45) -> 633.98472 | H46: =SUM(H44:H45) -> 615.86734 | I46: =SUM(I44:I45) -> 487.50587 | J46: =SUM(J44:J45) -> 371.75222
D49: Transaction Adjusments | G49: Separated Company
B50: SubCo - Adjusted Balance Sheet | C50: =C27 -> 46022 | D50: Debit | E50: Credit | F50: =F27 -> 46022 | G50: =G27 -> 46387 | H50: =H27 -> 46752 | I50: =I27 -> 47118 | J50: =J27 -> 47483
...

Sheet Versant - WACC
B2: Versant - WACC
B4: Company | C4: Ticker | D4: Beta
B5: Warner Bros | C5: WBD | D5: 1.61
B6: Paramount Global | C6: PARA | D6: 1.18
B7: Fox | C7: FOXA | D7: 0.51
B8: AMC Networks | C8: AMCX | D8: 1.06
B9: Median | D9: =MEDIAN(D5:D8) -> 1.12
C11: Beta | D11: Equity | E11: Debt | F11: Debt % | G11: Equity %
B12: Versant | C12: =D9 -> 1.12 | D12: ='Versant - Adjustment'!C17 -> 7823.1153 | E12: ='Versant - Adjustment'!C19 -> 2955 | F12: =E12/(E12+D12) -> 0.27416667 | G12: =1-F12 -> 0.72583333
B14: Levered Beta | C14: =C12*(1+(1-SubCo_Marginal_Tax_Rate)*(F12/G12)) -> 1.4372905
B15: Cost of Equity | C15: =Risk_Free_Rate+(Equity_Risk_Premium*C14) -> 0.11286452
B17: Cost of Debt | C17: ='Versant - Adjustment'!J10 -> 0.0725
B18: Cost of Debt After Tax | C18: =C17*(1-SubCo_Marginal_Tax_Rate) -> 0.054375
B20: Cost of Capital | C20: =C18*F12+C15*G12 -> 0.096828646

Sheet Venant - DFCF
B2: Versant - Discounted Free Cash Flow
B4: Cost of Capital | C4: ='Versant - WACC'!C20 -> 0.096828646 | E4: Perpetual | H4: Exit
E5: Growth | F5: -0.06 | H5: EV/EBITDA | I5: 5
B6: Current Shares | C6: ='Versant - Adjustment'!C6 -> 144.15002
E7: Terminal FCFF | F7: =P40 -> 1102.1072 | H7: Terminal EBITDA | I7: =P47 -> 1120.7994
E9: Terminal Value | F9: =F7*(1+F5)/(Cost_of_Capital-F5) -> 6605.8131 | H9: Terminal Value | I9: =I7*I5 -> 5603.9968
E10: Implied EV/EBITDA | F10: =F9/P47 -> 5.8938409 | H10: Implied Growth | I10: =(I9*Cost_of_Capital-P40)/(I9+P40) -> -0.083428431
E12: PV of Terminal | F12: =F9*P43 -> 2621.431 | H12: PV of Terminal | I12: =I9*P43 -> 2223.8733
E13: Sum of PV | F13: =SUM(G45:P45) -> 9902.57 | H13: Sum of PV | I13: =SUM(G45:P45) -> 9902.57
E14: (-) Debt | F14: =-'Versant - Adjustment'!F80 -> -2955 | H14: (-) Debt | I14: =F14 -> -2955
E15: (+) Cash | F15: ='Versant - Adjustment'!F53 -> 785.83427 | H15: (+) Cash | I15: =F15 -> 785.83427
E16: Equity | F16: =SUM(F12:F15) -> 10354.835 | H16: Equity | I16: =SUM(I12:I15) -> 9957.2776
E18: Share (Discount Impl.) | F18: =(F16/C6)*(1-Parent_Implied_Discount) -> 50.28362 | H18: Share (Discount Impl.) | I18: =(I16/C6)*(1-Parent_Implied_Discount) -> 48.353059
E19: Upside | F19: =F18/'Versant - Adjustment'!$C$8-1 -> -0.073465691 | H19: Upside | I19: =I18/'Versant - Adjustment'!$C$8-1 -> -0.10903853
E21: Implied TV over EV | F21: =F12/(F13+F12) -> 0.20931259 | H21: Implied TV over EV | I21: =I12/(I13+I12) -> 0.1833904
C23: HISTORICAL | G23: PROJECTED
B24: Unlevered Free Cash Flow | C24: =DATE(2022,12,31) -> 44926 | D24: =EOMONTH(C24,12) -> 45291 | E24: =EOMONTH(D24,12) -> 45657 | F24: =EOMONTH(E24,12) -> 46022 | G24: =EOMONTH(F24,12) -> 46387 | H24: =EOMONTH(G24,12) -> 46752 | I24: =EOMONTH(H24,12) -> 47118 | J24: =EOMONTH(I24,12) -> 47483 | K24: =EOMONTH(J24,12) -> 47848 | ... P24: =EOMONTH(O24,12) -> 49674
B25: Revenue | C25: =Versant!C6 -> 7834 | D25: =Versant!D6 -> 7445 | E25: =Versant!E6 -> 7062 | F25: ='Versant - Adjustment'!C28 -> 6638.28 | G25: ='Versant - Adjustment'!G28 -> 6903.8112 | H25: ='Versant - Adjustment'!H28 -> 7249.0018 | I25: ='Versant - Adjustment'!I28 -> 6814.0617 | J25: ='Versant - Adjustment'!J28 -> 6405.218 | K25: =J25*(1+K26) -> 6020.9049 | L25: =K25*(1+L26) -> 5659.6506 | M25: =L25*(1+M26) -> 5320.0716 | N25: =M25*(1+N26) -> 5000.8673 | O25: =N25*(1+O26) -> 4700.8152 | P25: =O25*(1+P26) -> 4418.7663
B26: Growth | D26: =D25/C25-1 -> -0.049655348 | E26: =E25/D25-1 -> -0.051443922 | F26: =F25/E25-1 -> -0.06 | G26: =G25/F25-1 -> 0.04 | H26: =H25/G25-1 -> 0.05 | I26: =I25/H25-1 -> -0.06 | J26: =J25/I25-1 -> -0.06 | K26: -0.06 | L26: -0.06 | M26: -0.06 | N26: -0.06 | O26: -0.06 | P26: -0.06
B28: Operating Profit | C28: =Versant!C15 -> 2410 | D28: =Versant!D15 -> 2069 | E28: =Versant!E15 -> 1842 | F28: ='Versant - Adjustment'!C39 -> 1625.2675 | G28: ='Versant - Adjustment'!G39 -> 1059.5505 | H28: ='Versant - Adjustment'!H39 -> 1035.394 | I28: ='Versant - Adjustment'!I39 -> 864.24533 | J28: ='Versant - Adjustment'!J39 -> 709.90712 | K28: =K29*K25 -> 602.09049 | L28: =L29*L25 -> 560.30541 | M28: =M29*M25 -> 521.36701 | N28: =N29*N25 -> 485.08412 | O28: =O29*O25 -> 451.27826 | P28: =P29*P25 -> 419.7828
B29: Margin | C29: =C28/C25 -> 0.30763339 | D29: =D28/D25 -> 0.27790463 | E29: =E28/E25 -> 0.26083263 | F29: =F28/F25 -> 0.24483263 | G29: =G28/G25 -> 0.15347327 | H29: =H28/H25 -> 0.14283263 | I29: =I28/I25 -> 0.12683263 | J29: =J28/J25 -> 0.11083263 | K29: 0.1 | L29: =K29-0.1% -> 0.099 | M29: =L29-0.1% -> 0.098 | N29: =M29-0.1% -> 0.097 | O29: =N29-0.1% -> 0.096 | P29: =O29-0.1% -> 0.095
B31: (+) D&A | C31: =Versant!C27 -> 992 | D31: =Versant!D27 -> 991 | E31: =Versant!E27 -> 989 | F31: ='Versant - Adjustment'!C93 -> 949.57484 | G31: ='Versant - Adjustment'!G93 -> 1008.2693 | H31: ='Versant - Adjustment'!H93 -> 1080.4297 | I31: ='Versant - Adjustment'!I93 -> 1036.0461 | J31: ='Versant - Adjustment'!J93 -> 993.09902 | K31: =K32*K25 -> 937.12562 | L31: =L32*L25 -> 884.29388 | M31: =M32*M25 -> 834.42829 | N31: =N32*N25 -> 787.36311 | O31: =O32*O25 -> 742.94181 | P31: =P32*P25 -> 701.01656
B32: % Revenue | C32: =C31/C25 -> 0.12662752 | D32: =D31/D25 -> 0.13310947 | E32: =E31/E25 -> 0.14004531 | F32: =F31/F25 -> 0.14304531 | G32: =G31/G25 -> 0.14604531 | H32: =H31/H25 -> 0.14904531 | I32: =I31/I25 -> 0.15204531 | J32: =J31/J25 -> 0.15504531 | K32: =J32+0.06% -> 0.15564531 | L32: =K32+0.06% -> 0.15624531 | M32: =L32+0.06% -> 0.15684531 | N32: =M32+0.06% -> 0.15744531 | O32: =N32+0.06% -> 0.15804531 | P32: =O32+0.06% -> 0.15864531
B34: (-) CAPEX | C34: =Versant!C39 -> -65 | D34: =Versant!D39 -> -56 | E34: =Versant!E39 -> -54 | F34: ='Versant - Adjustment'!C105+'Versant - Adjustment'!C106+'Versant - Adjustment'!C107 -> -54.7871 | G34: =SUM('Versant - Adjustment'!G105:G107) -> -154.77858 | H34: =SUM('Versant - Adjustment'!H105:H107) -> -157.36751 | I34: =SUM('Versant - Adjustment'!I105:I107) -> -154.10546 | J34: =SUM('Versant - Adjustment'!J105:J107) -> -151.03913 | K34: =K35*-K25 -> -129.93498 | L34: =L35*-L25 -> -110.81958 | M34: =M35*-M25 -> -93.530259 | N34: =N35*-N25 -> -77.916709 | O34: =O35*-O25 -> -63.840076 | P34: =P35*-P25 -> -51.172139
B35: % Revenue | C35: =-C34/C25 -> 0.0082971662 | D35: =-D34/D25 -> 0.0075218267 | E35: =-E34/E25 -> 0.007646559 | F35: =-F34/F25 -> 0.0082532072 | G35: =-G34/G25 -> 0.022419296 | H35: =-H34/H25 -> 0.021708853 | I35: =-I34/I25 -> 0.022615801 | J35: =-J34/J25 -> 0.023580639 | K35: =J35-0.2% -> 0.021580639 | L35: =K35-0.2% -> 0.019580639 | M35: =L35-0.2% -> 0.017580639 | N35: =M35-0.2% -> 0.015580639 | O35: =N35-0.2% -> 0.013580639 | P35: =O35-0.2% -> 0.011580639
B37: (+/-) Working Capital | C37: =Versant!C36 -> -167 | D37: =Versant!D36 -> 17 | E37: =Versant!E36 -> -14 | F37: ='Versant - Adjustment'!C102 -> 141.82626 | G37: ='Versant - Adjustment'!G102 -> 22.69043 | H37: ='Versant - Adjustment'!H102 -> 15.344661 | I37: ='Versant - Adjustment'!I102 -> 131.57952 | J37: ='Versant - Adjustment'!J102 -> 119.22567 | K37: =(K25-J25)*K38 -> 44.256372 | L37: =(L25-K25)*L38 -> 41.60099 | M37: =(M25-L25)*M38 -> 39.104931 | N37: =(N25-M25)*N38 -> 36.758635 | O37: =(O25-N25)*O38 -> 34.553117 | P37: =(P25-O25)*P38 -> 32.47993
B38: % Change in Revenue | D38: =D37/(D25-C25) -> -0.043701799 | E38: =E37/(E25-D25) -> 0.036553525 | F38: =F37/(F25-E25) -> -0.33471694 | G38: =G37/(G25-F25) -> 0.085452972 | H38: =H37/(H25-G25) -> 0.044452725 | I38: =I37/(I25-H25) -> -0.30252331 | J38: =J37/(J25-I25) -> -0.29161675 | K38: =AVERAGE(D38:J38) -> -0.11515708 | L38: =K38 -> -0.11515708 | M38: =L38 -> -0.11515708 | N38: =M38 -> -0.11515708 | O38: =N38 -> -0.11515708 | P38: =O38 -> -0.11515708
B40: Unlevered Free Cash Flow | C40: =C28+C31+C34+C37 -> 3170 | D40: =D28+D31+D34+D37 -> 3021 | E40: =E28+E31+E34+E37 -> 2763 | F40: =F28+F31+F34+F37 -> 2661.8815 | G40: =G28+G31+G34+G37 -> 1935.7316 | H40: =H28+H31+H34+H37 -> 1973.8008 | I40: =I28+I31+I34+I37 -> 1877.7655 | J40: =J28+J31+J34+J37 -> 1671.1927 | ... P40: =P28+P31+P34+P37 -> 1102.1072
B42: Period | G42: 1 | H42: 2 | I42: 3 | J42: 4 | K42: 5 | L42: 6 | M42: 7 | N42: 8 | O42: 9 | P42: 10
B43: Discount Factor | G43: =1/(1+Parent_Cost_of_Capital)^G42 -> 0.91171944 | H43: =1/(1+Parent_Cost_of_Capital)^H42 -> 0.83123234 | I43: =1/(1+Parent_Cost_of_Capital)^I42 -> 0.75785068 | J43: =1/(1+Parent_Cost_of_Capital)^J42 -> 0.6909472 | K43: =1/(1+Parent_Cost_of_Capital)^K42 -> 0.62995 | L43: =1/(1+Parent_Cost_of_Capital)^L42 -> 0.57433766 | M43: =1/(1+Parent_Cost_of_Capital)^M42 -> 0.52363481 | N43: =1/(1+Parent_Cost_of_Capital)^N42 -> 0.47740804 | ... P43: =1/(1+Parent_Cost_of_Capital)^P42 -> 0.396837
B45: PV | G45: =G40*G43 -> 1764.8441 | H45: =H40*H43 -> 1640.6871 | I45: =I40*I43 -> 1423.0659 | J45: =J40*J43 -> 1154.7059 | K45: =K40*K43 -> 915.65595 | L45: =L40*L43 -> 789.93293 | M45: =M40*M43 -> 681.44262 | N45: =N40*N43 -> 587.82734 | ... P45: =P40*P43 -> 437.35689
B47: EBITDA | C47: =C28+C31 -> 3402 | D47: =D28+D31 -> 3060 | E47: =E28+E31 -> 2831 | F47: =F28+F31 -> 2574.8424 | G47: =G28+G31 -> 2067.8197 | H47: =H28+H31 -> 2115.8237 | I47: =I28+I31 -> 1900.2915 | J47: =J28+J31 -> 1703.0061 | ... P47: =P28+P31 -> 1120.7994
B50: Perpetual Growth
B51: =F18 -> 50.28362 | C51: 0 | D51: =C51+0.5% -> 0.005 | E51: =D51+0.5% -> 0.01 | F51: =E51+0.5% -> 0.015 | G51: =F51+0.5% -> 0.02 | H51: =G51+0.5% -> 0.025
B52: 0.0666 | C52: 85.879849 | D52: 89.530817 | E52: 93.826832 | F52: 98.955408 | G52: 105.18454 | H52: 112.91105
B53: =B52+1% -> 0.0766 | C53: 74.936068 | D53: 77.447064 | E53: 80.335086 | F53: 83.691943 | G53: 87.641884 | H53: 92.357318
B54: =B53+1% -> 0.0866 | C54: 66.436612 | D54: 68.229866 | E54: 70.257226 | F54: 72.567737 | G54: 75.225172 | H54: 78.314009
B55: =B54+1% -> 0.0966 | C55: 59.627699 | D55: 60.946473 | E55: 62.41753 | F55: 64.068864 | G55: 65.935777 | H55: 68.063432
B56: =B55+1% -> 0.1066 | C56: 54.037984 | D56: 55.030895 | E56: 56.126591 | F56: 57.341906 | G56: 58.697556 | H56: 60.219341
B57: =B56+1% -> 0.1166 | C57: 49.357483 | D57: 50.119625 | E57: 50.953262 | F57: 51.86895 | G57: 52.87943 | H57: 54.000225
...
